BEGIN:VCALENDAR
VERSION:2.0
PRODID:-//wp-events-plugin.com//7.2.3.1//EN
TZID:Europe/Berlin
X-WR-TIMEZONE:Europe/Berlin
BEGIN:VEVENT
UID:0-1869@sharepointsocial.de
DTSTART;TZID=Europe/Berlin:20211027T190000
DTEND;TZID=Europe/Berlin:20211027T210000
DTSTAMP:20210920T174208Z
URL:https://sharepointsocial.de/events/microsoft-365-cafe-ii-apple-trifft-
 auf-microsoft-365-intune-und-mfa/
SUMMARY:Microsoft 365 Café: II. Apple trifft auf Microsoft 365 -> Intune u
 nd MFA
DESCRIPTION:Wir freuen uns\, dass wir wunderbare SprecherInnen und Unterneh
 men gefunden haben. Weitere Informationen folgen in Kürze.\n\nEndPoint Pr
 otection Manager aka Intune meets MacBook\, iPhone und iPad\nSprecher: Lot
 har von Kornatzki &amp\; Gäste\n\nMFA mit AAD und Yubikey bei Apple mit M
 icrosoft 365\nSprecher: Lothar von Kornatzki und Christian Müller &amp\; 
 Gäste
CATEGORIES:Meetup
LOCATION:https://www.meetup.com/de-DE/Office-365-Meetup/events/280896966/
END:VEVENT
BEGIN:VTIMEZONE
TZID:Europe/Berlin
X-LIC-LOCATION:Europe/Berlin
BEGIN:DAYLIGHT
DTSTART:20210328T030000
TZOFFSETFROM:+0100
TZOFFSETTO:+0200
TZNAME:CEST
END:DAYLIGHT
END:VTIMEZONE
END:VCALENDAR