BEGIN:VCALENDAR
VERSION:2.0
PRODID:-//wp-events-plugin.com//7.2.3.1//EN
TZID:Europe/Berlin
X-WR-TIMEZONE:Europe/Berlin
BEGIN:VEVENT
UID:0-1868@sharepointsocial.de
DTSTART;TZID=Europe/Berlin:20211011T183000
DTEND;TZID=Europe/Berlin:20211011T210000
DTSTAMP:20211006T130911Z
URL:https://sharepointsocial.de/events/microsoft-365-cafe-i-apple-trifft-a
 uf-microsoft-365-vom-mac-bis-zum-ipad/
SUMMARY:Microsoft 365 Café: I. Apple trifft auf Microsoft 365 vom Mac bis 
 zum iPad
DESCRIPTION:Wir freuen uns eine neue Reihe von Meetups im Rahmen des Micros
 oft 365 Café ankündigen zu können. Dieses Mal haben wir tolle SprecherI
 nnen aus Konzernen finden können\, die ihre alltägliche Arbeit berichten
  und erläutern.\n\nEinführung Apple meets Microsoft 365\nvon MacBook bis
  zum iPad\nRaphael Köllner\n30 Minuten / Einführung\n\niPad meets Micros
 oft 365\nThorsten Jekel\nEinführung bis Deep Dive\n\nAngefragt: Omar Shah
 ine (Microsoft Vice President OneDrive\, SharePoint\, Lists)\nOneDrive\, S
 harePoint meets Apple Product like the Macbook and iPhone\n\nThorsten Jeke
 l ist ein ausgewiesener Spezialist für den Umgang mit dem iPad im Unterne
 hmen. Wir freuen uns sehr\, dass wir ihn gewinnen konnten.
CATEGORIES:Meetup
LOCATION:https://www.meetup.com/de-DE/Office-365-Meetup/events/280896835/
END:VEVENT
BEGIN:VTIMEZONE
TZID:Europe/Berlin
X-LIC-LOCATION:Europe/Berlin
BEGIN:DAYLIGHT
DTSTART:20210328T030000
TZOFFSETFROM:+0100
TZOFFSETTO:+0200
TZNAME:CEST
END:DAYLIGHT
END:VTIMEZONE
END:VCALENDAR