BEGIN:VCALENDAR
VERSION:2.0
PRODID:-//wp-events-plugin.com//7.2.3.1//EN
TZID:Europe/Berlin
X-WR-TIMEZONE:Europe/Berlin
BEGIN:VEVENT
UID:6-92@sharepointsocial.de
DTSTART;TZID=Europe/Berlin:20160301T090000
DTEND;TZID=Europe/Berlin:20160301T100000
DTSTAMP:20160207T160312Z
URL:https://sharepointsocial.de/events/mehr-effizienz-im-vertragsmanagemen
 t-mit-psccontract-und-dox42/
SUMMARY:Mehr Effizienz im Vertragsmanagement mit pscContract und dox42
DESCRIPTION:Ein Portal Systems Consulting Webinar\nVertragsmanagement mit 
 pscContract und dox42 unterstützt Sie durch leistungsfähiges Termin- und
  Workflowmanagement während des gesamten Lebenszyklus eines Vertrags – 
 von  der Anbahnung bis zur Verlängerung oder Kündigung. Aktuelle Vertr
 äge werden überwacht\, Kosten lassen sich sicher steuern\, Neuabschlüss
 e bauen auf den Erkenntnissen und Fakten bestehender Verträge auf.\nDas B
 este: Die Erstellung des eigentlichen Vertragsdokuments erfolgt auf Basis 
 der SharePoint Metadaten und einem hinterlegten Template. Und Sie brauche
 n nicht eine Zeile Code!\nWie das funktioniert\, zeigen Ihnen Christian Ba
 uer (dox42) und Johannes Iwer (Portal Systems Consulting) am 01.03.2016 li
 ve im Webinar.\nDas Webinar hat Ihr Interesse geweckt!? Dann melden Sie 
 sich hier an.
CATEGORIES:Webcast
END:VEVENT
BEGIN:VTIMEZONE
TZID:Europe/Berlin
X-LIC-LOCATION:Europe/Berlin
BEGIN:STANDARD
DTSTART:20151025T020000
TZOFFSETFROM:+0200
TZOFFSETTO:+0100
TZNAME:CET
END:STANDARD
END:VTIMEZONE
END:VCALENDAR