BEGIN:VCALENDAR
VERSION:2.0
PRODID:-//wp-events-plugin.com//7.2.3.1//EN
TZID:Europe/Berlin
X-WR-TIMEZONE:Europe/Berlin
BEGIN:VEVENT
UID:0-2394@sharepointsocial.de
DTSTART;TZID=Europe/Berlin:20240718T173000
DTEND;TZID=Europe/Berlin:20240718T193000
DTSTAMP:20240702T175639Z
URL:https://sharepointsocial.de/events/meetup-ai-prompt-me-up-3-rags-to-ri
 ches/
SUMMARY:Meetup.AI Prompt me Up! #3 - RAGs to Riches
DESCRIPTION:Dear Friends\, colleagues\, and fellow technologists\,\n"Guess 
 who's back back back - back again"\nMeetup.ai is back! So tell your friend
 s and click on that sign-up button to join the event :)\nWe once again joi
 n the fray in Generative AI to discuss one of the hottest topics in the fi
 eld\, Retrieval Augmented Generation!\nSo we are happy to invite you to ou
 r RAGs to Riches event on July 18th\, at 17:30\, once again co-hosted by o
 ur great friends at Thoughtworks Berlin. Thoughtworks is a global technolo
 gy consultancy that integrates strategy\, design and software engineering 
 - and a community of passionate\, purpose-led individuals.\nIn this event\
 , we will look at RAGs from both the practical and theoretical sides with 
 two fantastic speakers.\nSpeakers:\n\n\n 	Stan Girard - Co-Founder &amp\;
  CEO @ Quivr - "Chatbots are going to destroy infrastructures and your c
 loud bills"\n 	Florian Hönnicke - Principal AI Engineer at Jina AI - "
 SAG - Stochastic Augmented Generation\, improving the creativity of LLMs"\
 n 	Thoughtworks Berlin - TBD\n\nAgenda:\n17:30 - Walk in. Let's kick off 
 the event with a refreshing drink!\n17:50 - Welcome word by Nicholas Bors
 otto\n18:00 - Welcome word by Stephanie Kunsleben (Community Manager at 
 Thoughtworks)\n18:10 - Stan Girard Talk\n18:45 - Small break\n19:00 - Flor
 ian Hönnicke Talk\n19:30 - Networking\nLooking forward to seeing you all 
 there. Shout out to Natalia Woroniec and Neon for helping us with the sp
 eaker selection!\nFor the community:\n\n\n 	Please contact Soraya Maan o
 n LinkedIn to talk about future topics for the meetup\, and collaborations
  or to recommend speakers.\n 	Contact Mario Savovski for pitching in our
  community round.\n\nAnmeldung hier über Meetup 
CATEGORIES:Meetup
LOCATION:Thoughtworks Berlin\, Revaler Str. 31\, Berlin\, Deutschland
X-APPLE-STRUCTURED-LOCATION;VALUE=URI;X-ADDRESS=Revaler Str. 31\, Berlin\, 
 Deutschland;X-APPLE-RADIUS=100;X-TITLE=Thoughtworks Berlin:geo:0,0
END:VEVENT
BEGIN:VTIMEZONE
TZID:Europe/Berlin
X-LIC-LOCATION:Europe/Berlin
BEGIN:DAYLIGHT
DTSTART:20240331T030000
TZOFFSETFROM:+0100
TZOFFSETTO:+0200
TZNAME:CEST
END:DAYLIGHT
END:VTIMEZONE
END:VCALENDAR