BEGIN:VCALENDAR
VERSION:2.0
PRODID:-//wp-events-plugin.com//7.2.3.1//EN
TZID:Europe/Berlin
X-WR-TIMEZONE:Europe/Berlin
BEGIN:VEVENT
UID:0-2391@sharepointsocial.de
DTSTART;TZID=Europe/Berlin:20240723T190000
DTEND;TZID=Europe/Berlin:20240723T210000
DTSTAMP:20240627T133447Z
URL:https://sharepointsocial.de/events/mastering-github-copilot-exclusive-
 insights-prompt-engineering/
SUMMARY:Mastering GitHub Copilot - Exclusive Insights & Prompt Engineering
DESCRIPTION:Diese Session zeigt dir\, wie du mit Prompt Engineering und Git
 Hub Copilot deine tägliche Arbeit optimieren kannst. Gregor\, der in enge
 r Zusammenarbeit mit dem Microsoft-Produktteam für GitHub Copilot Chat st
 eht\, wird seine Insiderkenntnisse teilen und demonstrieren\, wie du GitHu
 b Copilot so einsetzt\, dass du genau den Code generierst\, den du brauchs
 t – effizient und zielgerichtet.\nDiese Session ist für Entwickler*inne
 n gedacht\, die bereit sind\, ihre Produktivität zu maximieren und sich v
 on der zeitraubenden Suche nach Lösungen auf Google\, in Blog-Posts und a
 uf Stack Overflow zu verabschieden. Es ist Zeit\, die Art und Weise\, wie 
 du codest\, zu transformieren und die neuesten KI-gestützten Werkzeuge zu
  deinem Vorteil zu nutzen.\nSprecher: Gregor Biswanger (MVP)19:00
CATEGORIES:Meetup
LOCATION:https://www.meetup.com/global-ai-cologne/events/301714739?
END:VEVENT
BEGIN:VTIMEZONE
TZID:Europe/Berlin
X-LIC-LOCATION:Europe/Berlin
BEGIN:DAYLIGHT
DTSTART:20240331T030000
TZOFFSETFROM:+0100
TZOFFSETTO:+0200
TZNAME:CEST
END:DAYLIGHT
END:VTIMEZONE
END:VCALENDAR