BEGIN:VCALENDAR
VERSION:2.0
PRODID:-//wp-events-plugin.com//7.2.3.1//EN
TZID:Europe/Berlin
X-WR-TIMEZONE:Europe/Berlin
BEGIN:VEVENT
UID:0-1571@sharepointsocial.de
DTSTART;TZID=Europe/Berlin:20200910T190000
DTEND;TZID=Europe/Berlin:20200910T210000
DTSTAMP:20200821T120931Z
URL:https://sharepointsocial.de/events/manage-hybrid-environments-on-prem-
 gcp-or-aws-with-azure-arc/
SUMMARY:Manage Hybrid Environments (On-Prem\, GCP or AWS) with Azure Arc
DESCRIPTION:Viele Unternehmen evaluieren Multi Cloud Umgebungen oder erweit
 ern bestehende Rechenzentren Richtung Azure.\nEine Herausforderung besteht
  darin\, die verschiedenen Umgebungen von einem zentralen Service aus verw
 alten zu können.\n\nMit Azure Arc hat Microsoft bereits Ende 2019 eine ne
 ue Lösung vorgestellt\, die genau diese Anforderungn realisiert.\nAzure A
 rc ermöglicht das zentrale Verwalten von VMs\, Kubernetes- oder SQL- Serv
 ices die in ganz unterschiedlichen Umgebungen bereitgestellt sind\, von ei
 ner zentralen Lösung.\n\nWir freuens uns besonders\, dass wir Thomas Maur
 er für unser Meetup gewinnen konnten.\nThomas wird uns Azure Arc vorstell
 en und wie sich Windows und Linux VMs\, die außerhalb von Azure gehostet 
 werden\, mit diesem Service zentral über Azure verwalten lassen.\n\nThoma
 s arbeitet als Senior Cloud Advocate bei Microsoft und er ist engagiert in
  vielen Community- und Kunden- Projekten unterwegs\, um seine Erfahrung zu
  teilen und Feedback zu einzelnen Microsoft Produkten zu sammeln\, um dies
 e kontinuierlich zu verbessern.\nBevor Thomas bei Microsoft anfing\, war e
 r Lead Architect und langjähriger Microsoft MVP.\nFür mehr Informationen
  schaut auf seinem Blog vorbei oder folgt Ihm über Twitter:\nhttp://thoma
 smaurer.ch\nhttps://twitter.com/thomasmaurer
CATEGORIES:Meetup
LOCATION:https://www.meetup.com/de-DE/Azure-Bonn-Meetup/events/272462127/
END:VEVENT
BEGIN:VTIMEZONE
TZID:Europe/Berlin
X-LIC-LOCATION:Europe/Berlin
BEGIN:DAYLIGHT
DTSTART:20200329T030000
TZOFFSETFROM:+0100
TZOFFSETTO:+0200
TZNAME:CEST
END:DAYLIGHT
END:VTIMEZONE
END:VCALENDAR