BEGIN:VCALENDAR
VERSION:2.0
PRODID:-//wp-events-plugin.com//7.2.3.1//EN
TZID:Europe/Berlin
X-WR-TIMEZONE:Europe/Berlin
BEGIN:VEVENT
UID:0-1873@sharepointsocial.de
DTSTART;TZID=Europe/Berlin:20211027T143000
DTEND;TZID=Europe/Berlin:20211027T153000
DTSTAMP:20211027T121016Z
URL:https://sharepointsocial.de/events/made-not-born-ihre-entwicklung-zum-
 power-platform-hero/
SUMMARY:Made\, not born: Ihre Entwicklung zum Power Platform Hero
DESCRIPTION:Ein Microsoft Webinar\n\nZur Einwahl in das Meeting nutzen Sie 
 bitte den Link aus Ihrer Registrierungsbestätigung oder der per E-Mail ve
 rsendeten Erinnerung.\n\nKlassische Held*innen sind Menschen\, die eine Ei
 genschaft oder Qualität besitzen\, die sie von gewöhnlichen Menschen unt
 erscheidet und sie dadurch zu Held*innen macht. Manchmal ist das eine beso
 ndere Fähigkeit\, aber manchmal ist es auch eine Charaktereigenschaft wie
  Mut. Held*innen besitzen etwas\, das andere nicht haben\, aber ansonsten 
 sind sie in ihren Welten gleich.\n\nSchauen wir aus der Perspektive unsere
 r Kund*innen\, stehen diese teils vor enormen Herausforderungen\, die sie 
 allein nicht schaffen. Sie brauchen diese besonderen Fähigkeiten und Char
 aktereigenschaften\, damit sie im 21. Jahrhundert wettbewerbsfähig bleibe
 n können. Ihr ständiger indirekter Appell lautet: Power Heroes wanted!\n
 \nDoch: Was ist dieses „Andere“\, dieses Besondere genau? Reicht Mut o
 der technisches Know-how? Was ist das Geheimnis von erfolgreichem Pre-Sale
 s? Wie bekommt man das JA der Kund*innen?\n\nIn dieser Session widmet sich
  Martin Marx in einer Mischung aus Witz\, Kontext und zukunftsorientiertem
  Denken den Antworten auf diese Fragen und zeigt anhand von Best Practices
  und vielen Beispielen auf\, warum gutes Storytelling nicht nur wirkt\, so
 ndern Held*innen (er)schafft.\n\nIhr Referent:\n\nMartin Marx (Coach und G
 ründer der Lernfuturisten)\n\nWeitere Trainings und Veranstaltungen für 
 Partner finden Sie auf dem Partner Enablement Portal.
CATEGORIES:Webcast
LOCATION:https://www.microsoftevents.com/profile/form/index.cfm?PKformID=0x
 12444925abcd
END:VEVENT
BEGIN:VTIMEZONE
TZID:Europe/Berlin
X-LIC-LOCATION:Europe/Berlin
BEGIN:DAYLIGHT
DTSTART:20210328T030000
TZOFFSETFROM:+0100
TZOFFSETTO:+0200
TZNAME:CEST
END:DAYLIGHT
END:VTIMEZONE
END:VCALENDAR