BEGIN:VCALENDAR
VERSION:2.0
PRODID:-//wp-events-plugin.com//7.2.3.1//EN
TZID:Europe/Berlin
X-WR-TIMEZONE:Europe/Berlin
BEGIN:VEVENT
UID:0-1570@sharepointsocial.de
DTSTART;TZID=Europe/Berlin:20200826T190000
DTEND;TZID=Europe/Berlin:20200826T210000
DTSTAMP:20200821T120816Z
URL:https://sharepointsocial.de/events/m365-virtual-cafe-ersetzendes-scann
 en-und-revisionssichere-ablage-im-spo/
SUMMARY:M365 virtual Café - Ersetzendes Scannen und revisionssichere Ablag
 e im SPO
DESCRIPTION:Thema: Ersetzendes Scannen und revisionssichere Ablage mit Shar
 ePoint Online\n\nDie Verwaltung von Dokumenten\, die aus rechtlichen Grün
 den aufbewahrt werden müssen\, ist seit jeher ein “heißes Eisen”. Id
 ealerweise wollen die Unternehmen dabei nicht nur Dokumente digital verwal
 ten\, sondern die Originale aus Papier dabei auch vernichten. Mit den Mög
 lichkeiten von Exchange Online\, SharePoint Online und Azure geht heute me
 hr als man glaubt. Der Vortrag nimmt Euch mit auf die Reise der Implementi
 erung eines solchen Systems und zeigt dabei Chancen und Risiken sowie Prob
 leme\, die im Projekt umschifft werden mussten.\n\nSprecher/in: Thomas Mai
 er\n\nFirma: BayWa r.e. GmbH\n\nCV Thomas Maier\n\nWährend meines BWL Stu
 diums habe ich ein Praktikum bei Microsoft gemacht. Seitdem bin ich nicht 
 mehr weggekommen von Microsoft Produkten und bin tief in der IT gelandet. 
 Daher arbeite ich seit vielen Jahren als IT Projektmanager und IT Analyst.
  Besonders Spaß machen mir “unlösbare Probleme” und Projekte mit sta
 rker Regulierung . Da kann man sich nicht nur technisch austoben\, sondern
  das Nebenfach Jura während meines Studiums bringt doch noch was. Als Pro
 jektmanager kümmere ich mich dabei einerseits um die gesamte Planung der 
 Projekte\, andererseits aber auch direkt um Implementierung und Testing. P
 lanung und Theorie alleine wären mir zu langweilig. Da bin ich lieber noc
 h regelmäßig “im Maschinenraum”.
CATEGORIES:Meetup
LOCATION:https://www.meetup.com/de-DE/Office-365-Meetup/events/272223522/
END:VEVENT
BEGIN:VTIMEZONE
TZID:Europe/Berlin
X-LIC-LOCATION:Europe/Berlin
BEGIN:DAYLIGHT
DTSTART:20200329T030000
TZOFFSETFROM:+0100
TZOFFSETTO:+0200
TZNAME:CEST
END:DAYLIGHT
END:VTIMEZONE
END:VCALENDAR