BEGIN:VCALENDAR
VERSION:2.0
PRODID:-//wp-events-plugin.com//7.2.3.1//EN
TZID:Europe/Berlin
X-WR-TIMEZONE:Europe/Berlin
BEGIN:VEVENT
UID:0-2369@sharepointsocial.de
DTSTART;TZID=Europe/Berlin:20240923T090000
DTEND;TZID=Europe/Berlin:20240925T180000
DTSTAMP:20240709T100233Z
URL:https://sharepointsocial.de/events/m365-summit-mainz-2024/
SUMMARY:M365 Summit Mainz 2024
DESCRIPTION:\nKomm zum wahrscheinlich größten deutschsprachigen Präsenz-
 Event des Jahres rund um das Thema Microsoft 365\, Power Plattform &amp\; 
 Dynamics.\n\n\n\n\nDeshalb lohnt sich die Teilnahme für dich:\n\n\n\n\n\n
 \n\n\nDu lernst\, wie Deutschlands größte und erfolgreichste Unternehmen
  Microsoft 365 einsetzen.\n\n\n\n\n\n\n\n\n\nVoller Fokus auf Umsetzung un
 d praktische Anwendung - Die Speaker sorgen dafür\, dass ihre Vorträge d
 urch Praxisbezug und Machbarkeit überzeugen.\n\n\n\n\n\n\n\n\n\nKein Hype
 \, kein Marketing Bullshit - Es geht um Umsetzung! Hier lernst du von unab
 hängigen Experten\, was wirklich aktuell in Microsoft 365 möglich ist un
 d welche Grenzen es gibt!\n\n\n\n\n\n\nInfos &amp\; Anmeldung. https://tic
 kets.m365-summits.de/2024\n\n
CATEGORIES:Konferenz,Meetup
LOCATION:Rheingoldhall Mainz\, Rheinstrasse 66\, Mainz\, 55116\, Deutschlan
 d
GEO:50.0019;8.275610000000029
X-APPLE-STRUCTURED-LOCATION;VALUE=URI;X-ADDRESS=Rheinstrasse 66\, Mainz\, 5
 5116\, Deutschland;X-APPLE-RADIUS=100;X-TITLE=Rheingoldhall Mainz:geo:50.0
 019,8.275610000000029
END:VEVENT
BEGIN:VTIMEZONE
TZID:Europe/Berlin
X-LIC-LOCATION:Europe/Berlin
BEGIN:DAYLIGHT
DTSTART:20240331T030000
TZOFFSETFROM:+0100
TZOFFSETTO:+0200
TZNAME:CEST
END:DAYLIGHT
END:VTIMEZONE
END:VCALENDAR