BEGIN:VCALENDAR
VERSION:2.0
PRODID:-//wp-events-plugin.com//7.2.3.1//EN
TZID:Europe/Berlin
X-WR-TIMEZONE:Europe/Berlin
BEGIN:VEVENT
UID:0-2365@sharepointsocial.de
DTSTART;TZID=Europe/Berlin:20240514T140000
DTEND;TZID=Europe/Berlin:20240514T150000
DTSTAMP:20240502T092112Z
URL:https://sharepointsocial.de/events/m365-news-mai-2024/
SUMMARY:M365 News - Mai 2024
DESCRIPTION:n der M365 News Show präsentieren wir euch die neuesten Update
 s aus der Welt von Microsoft 365.\nAn jedem zweiten Dienstag im Monat von 
 14:00 - 15:00 Uhr.\nDie Organisatoren\nHans Brender - OneDrive\nThomas Ste
 nsitzki - Exchange\, Security\, Mail\, Verschlüsselung\nAnja Schröder - 
 Microsoft Teams\, SharePoint Online\, Microsoft Viva\nRaphael Köllner - C
 ompliance\, Datenschutz\nFerdi Lethen-Oellers - Microsoft Viva\, Power App
 s\, SharePoint Online
CATEGORIES:Meetup
LOCATION:https://www.meetup.com/office-365-meetup/events/299085266/
END:VEVENT
BEGIN:VTIMEZONE
TZID:Europe/Berlin
X-LIC-LOCATION:Europe/Berlin
BEGIN:DAYLIGHT
DTSTART:20240331T030000
TZOFFSETFROM:+0100
TZOFFSETTO:+0200
TZNAME:CEST
END:DAYLIGHT
END:VTIMEZONE
END:VCALENDAR