BEGIN:VCALENDAR
VERSION:2.0
PRODID:-//wp-events-plugin.com//7.2.3.1//EN
TZID:Europe/Berlin
X-WR-TIMEZONE:Europe/Berlin
BEGIN:VEVENT
UID:0-1768@sharepointsocial.de
DTSTART;TZID=Europe/Berlin:20210415T180000
DTEND;TZID=Europe/Berlin:20210415T210000
DTSTAMP:20210331T153814Z
URL:https://sharepointsocial.de/events/live-stream-sucess-summit-by-hopin-
 streamyard/
SUMMARY:Live Stream Sucess Summit by hopin/streamyard
DESCRIPTION:Join us on Thursday\, April 15 for the first-ever Live Stream S
 uccess Summit!\n\nYou’ll hear from the world’s top live streamers and 
 StreamYard users on topics like:\n\n 	How to get started with streaming\n 
 	Proven advice to take your streaming to the next level\n 	Ways to connect
  with your audience\n 	StreamYard pro tips\n 	Tactical deep dives to make 
 2021 your most successful streaming year yet\n\nOur keynote speakers inclu
 de renowned live streamers:\n\n 	Seth Godin (best-selling author and mark
 eting expert) will teach you how to find your voice and connect with your 
 live audience.\n 	Geige Vandentop (StreamYard’s founder) will reveal ex
 clusive new StreamYard features to  enhance your live streams\n 	Amy Land
 ino (Creator of the award-winning YouTube series AmyTV) will show you how
  to use the power of video to take your streams to the next level.\n\n\nPl
 us\, you’ll also be able to join many more educational sessions on live 
 streaming\, one-on-one networking with the StreamYard community\, expo boo
 ths filled with StreamYard experts ready to help you\, and more! See the f
 ull schedule below.
CATEGORIES:Meetup,Partnerevent
LOCATION:https://hopin.com/events/sysummit
END:VEVENT
BEGIN:VTIMEZONE
TZID:Europe/Berlin
X-LIC-LOCATION:Europe/Berlin
BEGIN:DAYLIGHT
DTSTART:20210328T030000
TZOFFSETFROM:+0100
TZOFFSETTO:+0200
TZNAME:CEST
END:DAYLIGHT
END:VTIMEZONE
END:VCALENDAR