BEGIN:VCALENDAR
VERSION:2.0
PRODID:-//wp-events-plugin.com//7.2.3.1//EN
TZID:Europe/Berlin
X-WR-TIMEZONE:Europe/Berlin
BEGIN:VEVENT
UID:0-1844@sharepointsocial.de
DTSTART;TZID=Europe/Berlin:20210907T160000
DTEND;TZID=Europe/Berlin:20210907T180000
DTSTAMP:20210813T102334Z
URL:https://sharepointsocial.de/events/lets-get-cognitive-6-einfuehrung-in
 -microsoft-cognitive-services/
SUMMARY:Let’s Get Cognitive #6 - Einführung in Microsoft Cognitive Servi
 ces
DESCRIPTION:Meetup: Microsoft Cognitive Services and Bot Framework Switzerl
 and\n\nLiebe Microsoft Enthusiasten\,\n\ndu möchtest eine Einführung in 
 die Microsoft Cognitive Services und planst vielleicht sogar eine Zertifiz
 ierung abzulegen (AI-102)?\n\nUnsere Speaker Michael Schroeder und Yves Be
 utler von ERNI\, sowie Thomas von Mentlen (Microsoft Certified Trainer) vo
 n Corporate Software AG bieten dir am Dienstag\, den 07.09.2021 ab 16:00 U
 hr\, den perfekten Einstieg.\n\nHier anmelden\n\n**Agenda:**\n\n 	Willkomm
 en\n 	Übersicht Microsoft Cognitive Services | Thomas\n 	Tipps &amp\; Tri
 cks zur Zertifizierung AI-102 | Thomas und Sebastian\n 	Showcase mit Cogni
 tive Services | Michael und Yves\n 	ApéroAlle Beiträge sind auf Deutsch.
 \n\nWir treffen uns endlich wieder physisch an der Genfergasse 14 in Bern 
 im Swisscom Gebäude.\n\nBitte meldet euch am Empfang. Start des Meetup is
 t ca. 16:15. Bitte trefft daher möglichst pünktlich um 16:00 Uhr am Empf
 ang ein. Die Plätze sind begrenzt\, weshalb ich für möglichst verbindli
 che Zu- und Absagen dankbar bin.\n\nIch freue mich!\n\n—Sebastian\n
CATEGORIES:Meetup
LOCATION:Swisscom\, Genfergasse 14\, Bern\, Schweiz
X-APPLE-STRUCTURED-LOCATION;VALUE=URI;X-ADDRESS=Genfergasse 14\, Bern\, Sch
 weiz;X-APPLE-RADIUS=100;X-TITLE=Swisscom:geo:0,0
END:VEVENT
BEGIN:VTIMEZONE
TZID:Europe/Berlin
X-LIC-LOCATION:Europe/Berlin
BEGIN:DAYLIGHT
DTSTART:20210328T030000
TZOFFSETFROM:+0100
TZOFFSETTO:+0200
TZNAME:CEST
END:DAYLIGHT
END:VTIMEZONE
END:VCALENDAR