BEGIN:VCALENDAR
VERSION:2.0
PRODID:-//wp-events-plugin.com//7.2.3.1//EN
TZID:Europe/Berlin
X-WR-TIMEZONE:Europe/Berlin
BEGIN:VEVENT
UID:0-2384@sharepointsocial.de
DTSTART;TZID=Europe/Berlin:20241010T090000
DTEND;TZID=Europe/Berlin:20241011T180000
DTSTAMP:20240619T064747Z
URL:https://sharepointsocial.de/events/knowledgecamp-2024-gkc24/
SUMMARY:KnowledgeCamp 2024 – #gkc24
DESCRIPTION:Das 20. KnowledgeCamp der Gesellschaft für Wissensmanagement e
 . V. (GfWM) findet dieses Jahr wieder im bewährten Hybrid-Format statt\, 
 d.h. face to face vor Ort sowie mit der Möglichkeit Eurer virtuellen Te
 ilnahme.\n\nUnter dem Motto „Knowledge Management works. – Wissensmana
 gement funktioniert.“ werden wir uns am 10. und 11. Oktober in Berl
 in über folgende Fragen austauschen:\n\nWas funktioniert gut beim Wissen
 smanagement in Organisationen? Präsentiert dazu Eure bewährten Praktike
 n\, erfolgreichen Strategien und innovativen Ansätze im jeweiligen organi
 sationalen Kontext.\n\nWas hat sich über die Jahre mit Erfolg etabliert?
  Wir freuen uns auf Fallbeispiele und Best Practices aus der Wirtschaft
  (kleine und mittlere Unternehmen sowie Großkonzerne)\, der öffentlichen
  Verwaltung (Bund\, Länder\, Gemeinden) sowie aus Stiftungen\, Vereinen u
 nd Verbänden (Non-Profit-Organisationen\, NGOs und Wirtschaftsverbände).
 \n\nTeilt Eure Erfahrungen und Erkenntnisse über gelungenes Wissensmanage
 ment! Lasst uns gemeinsam herausfinden\, wie Wissensmanagement in der Pra
 xis erfolgreich funktioniert.\n\nAnmeldung und Infos auf der Website
CATEGORIES:Konferenz,Meetup
LOCATION:frizzforum\, Friedrichstr. 23\, Berlin\, 10969 \, Deutschland
X-APPLE-STRUCTURED-LOCATION;VALUE=URI;X-ADDRESS=Friedrichstr. 23\, Berlin\,
  10969 \, Deutschland;X-APPLE-RADIUS=100;X-TITLE=frizzforum:geo:0,0
END:VEVENT
BEGIN:VTIMEZONE
TZID:Europe/Berlin
X-LIC-LOCATION:Europe/Berlin
BEGIN:DAYLIGHT
DTSTART:20240331T030000
TZOFFSETFROM:+0100
TZOFFSETTO:+0200
TZNAME:CEST
END:DAYLIGHT
END:VTIMEZONE
END:VCALENDAR