BEGIN:VCALENDAR
VERSION:2.0
PRODID:-//wp-events-plugin.com//7.2.3.1//EN
TZID:Europe/Berlin
X-WR-TIMEZONE:Europe/Berlin
BEGIN:VEVENT
UID:0-2399@sharepointsocial.de
DTSTART;TZID=Europe/Berlin:20240822T180000
DTEND;TZID=Europe/Berlin:20240822T200000
DTSTAMP:20240819T102314Z
URL:https://sharepointsocial.de/events/ki-richtig-einfuehren-mit-microsoft
 -copilot/
SUMMARY:KI richtig einführen mit Microsoft Copilot
DESCRIPTION:Wir freuen uns auf Martin Arnold\, Geschäftsführer DTPA Gmb
 H. Er wird uns mitnehmen in eine Session zum Thema Einführung von KI.\nAg
 enda\n1. Kurze Vorstellung\n2. Nutzung von KI in O365\, neue Arbeitsweisen
 \n3. Herausforderungen definieren\n4. Ansätze für Projekte\n5. Vorauss
 etzungen\, Einführung &amp\; Implementierung 6. Fazit\n7. Fragen/Diskuss
 ion
CATEGORIES:Meetup
LOCATION:https://www.meetup.com/global-ai-cologne/events/301994148
END:VEVENT
BEGIN:VTIMEZONE
TZID:Europe/Berlin
X-LIC-LOCATION:Europe/Berlin
BEGIN:DAYLIGHT
DTSTART:20240331T030000
TZOFFSETFROM:+0100
TZOFFSETTO:+0200
TZNAME:CEST
END:DAYLIGHT
END:VTIMEZONE
END:VCALENDAR