BEGIN:VCALENDAR
VERSION:2.0
PRODID:-//wp-events-plugin.com//7.2.3.1//EN
TZID:Europe/Berlin
X-WR-TIMEZONE:Europe/Berlin
BEGIN:VEVENT
UID:0-2412@sharepointsocial.de
DTSTART;TZID=Europe/Berlin:20241108T083000
DTEND;TZID=Europe/Berlin:20241108T153000
DTSTAMP:20241021T115245Z
URL:https://sharepointsocial.de/events/ki-insights-barcamp-2024/
SUMMARY:KI-Insights Barcamp 2024
DESCRIPTION:Corona bedingt verschoben auf den 8.11.2024\nKI-Insights Nr. 4 
 am 8.11. Plätze sichern für Session Geber und Teilnehmer!\nBei letzten K
 I-Insights Barcamp durften wir uns über beeindruckende 750 Anmeldungen un
 d 75 spannende Sessions freuen! Dieses Mal möchten wir den Barcamp-Charak
 ter noch stärker in den Vordergrund stellen und euch mehr Raum für Austa
 usch und Kreativität bieten.\nAI First Strategien! Das Barcamp wird am 8.
 11. auf der Cloudpresenter Plattform\n&nbsp\;\n\nMotto: AI oder schon AI-F
 irst\n\nAblauf: \n\n08:30 - 09:00 Open the Gates\n\n09:00 - 09:45 Keynote
 \n\n10:00 - 10:45 Barcamp Orga\n\n11:00 - 11:45 Runde 1 Barcamp\n\n12:00 -
  12:45 Runde 2 Barcamp\n\n13:00 - 13:45 Runde 3 Barcamp\n\n14:00 - 14:45 R
 unde 4 Barcamp\n\n15:00 - 15:30 Abschluss\n\n&nbsp\;\n\nDie Teilnehmer Tic
 kets sind bis noch ein paar Tage kostenlos\, wenn du dir ein Ticket und od
 er einen Session Geber Platz sichern möchtest\, dann fülle doch die pass
 enden Forms aus.\n\nAlle Infos + Anmeldung auf der Website
CATEGORIES:Meetup
LOCATION:https://turing42.com/ki-insights
END:VEVENT
BEGIN:VTIMEZONE
TZID:Europe/Berlin
X-LIC-LOCATION:Europe/Berlin
BEGIN:STANDARD
DTSTART:20241027T020000
TZOFFSETFROM:+0200
TZOFFSETTO:+0100
TZNAME:CET
END:STANDARD
END:VTIMEZONE
END:VCALENDAR