BEGIN:VCALENDAR
VERSION:2.0
PRODID:-//wp-events-plugin.com//7.2.3.1//EN
TZID:Europe/Berlin
X-WR-TIMEZONE:Europe/Berlin
BEGIN:VEVENT
UID:6-75@sharepointsocial.de
DTSTART;TZID=Europe/Berlin:20160204T100000
DTEND;TZID=Europe/Berlin:20160204T110000
DTSTAMP:20160126T151817Z
URL:https://sharepointsocial.de/events/k2-techspresso-mobilisierung-ihrer-
 belegschaft/
SUMMARY:K2 Tech'spresso Mobilisierung ihrer Belegschaft
DESCRIPTION:Ein K2 Webinar\n\nLaut IDG wollen 83% der Unternehmen in den n
 ächsten 12 Monaten in Mobiltechnologien investieren\, wobei die Anwendung
 sentwicklung und eine verbesserte Benutzererfahrung bei den Investitionspr
 ioritäten unter den Top 4 zu finden sind.\n\nUnd dies aus gutem Grund. Im
 mer mehr Unternehmen erkennen\, dass ihre Mitarbeiter produktiver sein kö
 nnen\, wenn man ihnen freie Wahl hinsichtlich Arbeitsort und Arbeitszeit l
 ässt und sie hierbei außerdem ein Gerät ihrer Wahl nutzen dürfen. Mobi
 le Geschäftsanwendungen können diese langwierigen\, manuellen Prozesse a
 bschaffen und somit die Mitarbeiterproduktivität steigern\, was gleichzei
 tig auch für mehr Kundenzufriedenheit und geringere Geschäftskosten sorg
 t.\n\nBesuchen Sie unser Webinar am 4. Februar um 10:00 Uhr\, in dem wir u
 nter anderem auf diese Hauptpunkte eingehen werden:\n\n	Mobilisierung Ihre
 r Belegschaft – überall\, jederzeit und von jedem Gerät aus / online o
 der offline – durch Bereitstellung neuer Geschäftsanwendungen (oder dur
 ch Verbesserung vorhandener Anwendungen)\n	Erfassung kritischer Geschäfts
 informationen über Formulare\, die verteilte LOB-Informationen zusammenf
 ühren und als Standalone-Formulare genutzt werden können\, um einen Work
 flow anzustoßen\, oder die an einen Prozess gekoppelt werden können\, de
 r diese Informationen zur richtigen Zeit für die richtigen Personen berei
 tstellt\n	Deutlich verringerter Zeitaufwand für die Bereitstellung von in
 teraktiven\, datengesteuerten Formularen und Beschleunigung der gesamten A
 nwendungsbereitstellung – einmalige Erstellung und geräteübergreifende
  Implementierung ohne zusätzlichen Codieraufwand\n	Beseitigung von Redund
 anzen bei der Datenspeicherung und Vermeiden von Verzögerungen bei der Fe
 rninitiierung von Workflows\n	Reduzierung oder Vermeidung von manuellen\, 
 papierbasierten Prozessen und den hiermit verbundenen Engpässen\n\nAnmeld
 ung\nMelden Sie sich noch heute an und reservieren Sie sich einen Platz!
CATEGORIES:Webcast
END:VEVENT
BEGIN:VTIMEZONE
TZID:Europe/Berlin
X-LIC-LOCATION:Europe/Berlin
BEGIN:STANDARD
DTSTART:20151025T020000
TZOFFSETFROM:+0200
TZOFFSETTO:+0100
TZNAME:CET
END:STANDARD
END:VTIMEZONE
END:VCALENDAR