BEGIN:VCALENDAR
VERSION:2.0
PRODID:-//wp-events-plugin.com//7.2.3.1//EN
TZID:Europe/Berlin
X-WR-TIMEZONE:Europe/Berlin
BEGIN:VEVENT
UID:0-2413@sharepointsocial.de
DTSTART;TZID=Europe/Berlin:20241017T120000
DTEND;TZID=Europe/Berlin:20241017T180000
DTSTAMP:20240904T135223Z
URL:https://sharepointsocial.de/events/it-forum-mainfranken/
SUMMARY:IT-Forum Mainfranken
DESCRIPTION:IT-Forum Mainfranken – 17.10.2024\n\n\nWas sind die Chancen u
 nd Risiken von KI?\nDieser und vielen weiteren Fragen möchten wir auf dem
  diesjährigen IT-Forum Mainfranken nachgehen. Zusammen mit Ihnen möchten
  wir erkunden\, wohin die Reise geht. Wir freuen uns\, Ihnen auch dieses J
 ahr wieder ein vielfältiges Programm bieten zu können. Es erwarten Sie 
 interessante Speaker Vorträge zu Themen wie KI\, IT-Sicherheit und NiS2
 . Außerdem gibt es die neuste Dell Hardware zum Anfassen\, leckeres Ess
 en und vieles mehr. Das IT Forum ist der perfekte Ort für den gemeinsamen
  Austausch über alle Themen die unsere Branche bewegen.\n\nHaben wir Ihr 
 Interesse geweckt? Dann sichern Sie sich schnell Ihren Platz. Wir freuen u
 ns auf Ihre Anmeldung!\n\nHier anmelden : Programm 2024 – IT-Forum-Mainf
 ranken (itfmain.de)\n\nDas IT-Forum Mainfranken findet am 17.10.2024 ab 12
  Uhr in den Mainfrankensälen in Veitshöchheim statt. Weitere Infos zum P
 rogramm\, Ablauf und Anfahrt folgen sehr bald. Abonnieren Sie dazu gerne u
 nseren Newsletter. Wenn Sie einen Eindruck vom Event bekommen möchten\, s
 chauen Sie gerne auf unserer “Rückblick 2023” Seite vorbei.\n
CATEGORIES:Konferenz,Meetup,Partnerevent
LOCATION:Mainfrankensälen\, Veitshöchheim\, Veitshöchheim\, Deutschland
X-APPLE-STRUCTURED-LOCATION;VALUE=URI;X-ADDRESS=Veitshöchheim\, Veitshöch
 heim\, Deutschland;X-APPLE-RADIUS=100;X-TITLE=Mainfrankensälen:geo:0,0
END:VEVENT
BEGIN:VTIMEZONE
TZID:Europe/Berlin
X-LIC-LOCATION:Europe/Berlin
BEGIN:DAYLIGHT
DTSTART:20240331T030000
TZOFFSETFROM:+0100
TZOFFSETTO:+0200
TZNAME:CEST
END:DAYLIGHT
END:VTIMEZONE
END:VCALENDAR