BEGIN:VCALENDAR
VERSION:2.0
PRODID:-//wp-events-plugin.com//7.2.3.1//EN
TZID:Europe/Berlin
X-WR-TIMEZONE:Europe/Berlin
BEGIN:VEVENT
UID:0-1766@sharepointsocial.de
DTSTART;TZID=Europe/Berlin:20210602T160000
DTEND;TZID=Europe/Berlin:20210602T180000
DTSTAMP:20210506T101507Z
URL:https://sharepointsocial.de/events/ioz-62-microsoft-365-sharepoint-com
 munity/
SUMMARY:IOZ: 62. Microsoft 365 & SharePoint Community
DESCRIPTION:\n\nAn der 62. Ausgabe der Microsoft 365 &amp\; SharePoint Comm
 unity stehen Microsoft Viva und Microsoft Search im Mittelpunkt. In vier 
 Referaten beleuchten wir die Themen im Detail\, zeigen Praxisbeispiele auf
  und begrüssen als Gastreferenten Microsoft MVP Ragnar Heil. Er wird in s
 einem Referat auf Cortex\, Viva Topics und SharePoint Syntex eingehen.&nbs
 p\;\n\n\n\n\n\n\n\nReferat 1: Microsoft Viva Deep Dive [Technologie-Refera
 t]\nReferent: Marcel Kurmann\, IOZ Projektleiter aus dem Team Collaborati
 on\n\nMarcel Kurmann gibt in seinem Referat einen Überblick über die neu
 e Employee Experience Plattform Microsoft Viva. Diese beinhaltet die vier 
 Anwendungen Connections\, Insights\, Learning wie auch Topics. Im Referat 
 geht Marcel Kurmann auf die vier Module ein und zeigt auf\, welche Funktio
 nen diese erfüllen. In einer Live-Demonstration gewährt er zudem einen 
 first-hand-Einblick auf die brandneue Applikation Microsoft Viva.\n\n\n\n\
 nReferat 2: Project Cortex ist tot - viva Microsoft Viva [Gastreferat]\nRe
 ferent: Ragnar Heil\, Microsoft MVP\, Quest Channel Manager\, Blogger &a
 mp\; Podcaster\n\nWie genau erfüllt Viva Topics die Vision von Project Co
 rtex und wie sieht das Zusammenwirken mit SharePoint Syntex aus? Ragnar He
 il vergleicht die Konzepte\, stellt die Integrationen in Live-Demos vor un
 d zeigt auf\, wie gut geschäftsrelevante Anwendungsfälle bereits abgedec
 kt werden können.\n\n\n\n\nLiveschaltung mit einer knallenden Überraschu
 ng\nam Zünder: Raphael Bachmann\, IOZ Bereichsleiter Central Customer Pr
 ocesses und Mitglied der GL\n\n\n\n\nReferat 3: Microsoft Search 2021 - Su
 chst du noch oder findest du schon? [Fachreferat]\nReferent: David Mehr\
 , Bereichsleiter Collaboration bei IOZ\, GL-Mitglied und Microsoft Search 
 Enthusiast\n\nEs gibt kaum etwas Mühsameres\, als wenn man lange nach Inf
 ormationen oder Dokumenten suchen muss. Mit der Microsoft Search ist es m
 öglich\, das gesuchte Wissen innerhalb von M365 schnell und effizient zu 
 finden. David Mehr zeigt die Microsoft Search mit Stand 2021 auf und demon
 striert\, wie sich externe Informationsquellen in die Suche integrieren la
 ssen.\n\n\n\n\nReferat 4: SharePoint-Suche als Teil eines Qualitätsmanage
 ments-Systems umgesetzt [Praxisreferat]\nReferent: Thomas Widmer\, IOZ Pr
 ojektleiter im Team Collaboration mit Spezialisierung auf Managementsystem
 e\n\nIn Qualitätsmanagement-Systemen QMS bestehen oft ganz konkrete Anfor
 derungen an die SharePoint-Suche. Die strukturierten Informationen aus den
  Prozessen müssen als Filter zur Verfügung stehen\, und eine optimierte
  Visualisierung hilft den Nutzerinnen und Nutzern\, die gesuchten Informat
 ionen schnell zu finden. Thomas Widmer zeigt anhand eines konkreten Praxis
 falles\, wie eine solche Suche im Kontext eines Managementsystems umgesetz
 t wurde.\n\n\n\n\n&nbsp\;\n\n&nbsp\;
CATEGORIES:Meetup
LOCATION:https://www.ioz.ch/de/events.html
END:VEVENT
BEGIN:VTIMEZONE
TZID:Europe/Berlin
X-LIC-LOCATION:Europe/Berlin
BEGIN:DAYLIGHT
DTSTART:20210328T030000
TZOFFSETFROM:+0100
TZOFFSETTO:+0200
TZNAME:CEST
END:DAYLIGHT
END:VTIMEZONE
END:VCALENDAR