BEGIN:VCALENDAR
VERSION:2.0
PRODID:-//wp-events-plugin.com//7.2.3.1//EN
TZID:Europe/Berlin
X-WR-TIMEZONE:Europe/Berlin
BEGIN:VEVENT
UID:6-65@sharepointsocial.de
DTSTART;TZID=Europe/Berlin:20160428T083000
DTEND;TZID=Europe/Berlin:20160429T170000
DTSTAMP:20160112T104449Z
URL:https://sharepointsocial.de/events/intra-net-reloaded-berlin-2016/
SUMMARY:Intra.NET Reloaded Berlin 2016
DESCRIPTION:The Intra.NET Reloaded Berlin will be taking place for the 5th 
 time on April 28-29\, 2016 in Berlin\, bringing together more than 250 st
 akeholders who play an active role in intranets\, digital workplaces and e
 nterprise collaboration networks.\n\n\n\nThe event offers you the unique 
 opportunity to take part in a combination of inspirational keynotes\, eng
 aging discussion rounds and networking activities. Gain a deeper understan
 ding of relevant technologies and communication strategies to maximise th
 e success of your organisation´s intranets and enterprise social networks
 .\n\nAdditionally the prestigious Intra.NET Award will exclusively honour 
 exceptional projects in three different categories\nKey topics for 2016\n\
 n	Sharepoint &amp\; the cloud: making technology available\n	Information s
 haring\, content integration and migration\n	Governance: managing intranet
 s\n	Business strategies &amp\; proof of concept\n\nAgenda\, Speaker Info a
 nd Registration\nFor further information about the programme\, speakers an
 d to register for the event visit:\nhttp://intranet-reloaded-berlin.com
ATTACH;FMTTYPE=image/jpeg:https://sharepointsocial.de/files/2016/01/DL_Age
 nda_berlin-1.jpg
CATEGORIES:Konferenz
LOCATION:Kosmos Cinema Berlin\, Karl-Max-Allee 131a\, Berlin\, Deutschland
GEO:52.5169191;13.44966599999998
X-APPLE-STRUCTURED-LOCATION;VALUE=URI;X-ADDRESS=Karl-Max-Allee 131a\, Berli
 n\, Deutschland;X-APPLE-RADIUS=100;X-TITLE=Kosmos Cinema Berlin:geo:52.516
 9191,13.44966599999998
END:VEVENT
BEGIN:VTIMEZONE
TZID:Europe/Berlin
X-LIC-LOCATION:Europe/Berlin
BEGIN:DAYLIGHT
DTSTART:20160327T030000
TZOFFSETFROM:+0100
TZOFFSETTO:+0200
TZNAME:CEST
END:DAYLIGHT
END:VTIMEZONE
END:VCALENDAR