BEGIN:VCALENDAR
VERSION:2.0
PRODID:-//wp-events-plugin.com//7.2.3.1//EN
TZID:Europe/Berlin
X-WR-TIMEZONE:Europe/Berlin
BEGIN:VEVENT
UID:0-1771@sharepointsocial.de
DTSTART;TZID=Europe/Berlin:20210412T090000
DTEND;TZID=Europe/Berlin:20210415T160000
DTSTAMP:20210331T155828Z
URL:https://sharepointsocial.de/events/https-www-microsoft-com-de-de-techw
 iese-events-modern-work-week-aspx/
SUMMARY:Microsoft Modern Work Week
DESCRIPTION:\nSich bequem von zu Hause aus weiterbilden\, netzwerken und mi
 t Gleichgesinnten diskutieren – das erwartet Sie bei der ersten Microsof
 t Modern Work Week.\nVom 12. bis zum 16. April können Sie täglich an ver
 schiedenen Veranstaltungen rund um das moderne Arbeiten von und mit Micros
 oft teilnehmen. Ob Teams\, Microsoft 365 oder Teams Apps – Sie bekommen 
 zu jedem Thema wertvolle Fachkenntnisse vermittelt\, die Ihr Unternehmen a
 uch nach der Pandemie dabei unterstützen\, hybrides Arbeiten zu ermöglic
 hen.\nUnd so funktioniert’s: Für jede einzelne Veranstaltung ist eine g
 esonderte Anmeldung notwendig. Melden Sie sich einfach für alle Veranstal
 tungen an\, die Sie interessieren\, und stellen Sie sich so Ihre ganz pers
 önliche Themenwoche zusammen. Wir freuen uns auf Ihre Teilnahme!\n\n\n\nM
 odern Work Week - Agenda\nMo 12. April | Di 13. April | Mi 14. April 
 | Do 15. April | Fr 16. April\n\n
CATEGORIES:Meetup,Webcast
LOCATION:https://www.microsoft.com/de-de/techwiese/events/modern-work-week.
 aspx
END:VEVENT
BEGIN:VTIMEZONE
TZID:Europe/Berlin
X-LIC-LOCATION:Europe/Berlin
BEGIN:DAYLIGHT
DTSTART:20210328T030000
TZOFFSETFROM:+0100
TZOFFSETTO:+0200
TZNAME:CEST
END:DAYLIGHT
END:VTIMEZONE
END:VCALENDAR