BEGIN:VCALENDAR
VERSION:2.0
PRODID:-//wp-events-plugin.com//7.2.3.1//EN
TZID:Europe/Berlin
X-WR-TIMEZONE:Europe/Berlin
BEGIN:VEVENT
UID:0-1576@sharepointsocial.de
DTSTART;TZID=Europe/Berlin:20200831T170000
DTEND;TZID=Europe/Berlin:20200831T183000
DTSTAMP:20200821T152747Z
URL:https://sharepointsocial.de/events/how-to-stay-organized-with-your-ema
 ils-in-outlook-like-a-rockstar/
SUMMARY:How to stay organized with your Emails in Outlook like a rockstar
DESCRIPTION:In this session\, Luise Freese will guide you to a simple yet g
 ame-changing approach on how to stay organized with your emails in Outlook
 .\n\nExpect a system\n\n- that really works for you and fits into your bus
 y schedule\n- peace of mind\n- a proper understanding of what email is mea
 nt to be in the modern workplace\n\nLearn how you stay on top\, not feel d
 rowned\, don't spend your time with not finding THE MOST IMPORTANT EMAIL\,
  and how this all connects to new working behavior in Microsoft 365.\n\nTh
 is event is a Teams Meeting and a start into a series about healthy and pr
 oductive working habits in Office 365.\n\nThis event will be delivered in 
 English.
CATEGORIES:Meetup,Webcast
LOCATION:https://www.meetup.com/de-DE/Sharing-Is-Caring-Learn-Microsoft-365
 -Power-Platform/events/272717752/
END:VEVENT
BEGIN:VTIMEZONE
TZID:Europe/Berlin
X-LIC-LOCATION:Europe/Berlin
BEGIN:DAYLIGHT
DTSTART:20200329T030000
TZOFFSETFROM:+0100
TZOFFSETTO:+0200
TZNAME:CEST
END:DAYLIGHT
END:VTIMEZONE
END:VCALENDAR