BEGIN:VCALENDAR
VERSION:2.0
PRODID:-//wp-events-plugin.com//7.2.3.1//EN
TZID:Europe/Berlin
X-WR-TIMEZONE:Europe/Berlin
BEGIN:VEVENT
UID:0-1767@sharepointsocial.de
DTSTART;TZID=Europe/Berlin:20210416T170000
DTEND;TZID=Europe/Berlin:20210416T200000
DTSTAMP:20210331T153330Z
URL:https://sharepointsocial.de/events/global-azure-bootcamp-2021-azure-me
 etup-cologne/
SUMMARY:Global Azure Bootcamp 2021 (Azure Meetup Cologne)
DESCRIPTION:Wir freuen uns auf das nächste Global Azure Bootcamp 2021!\n\n
 Keynote: 17:00 - 18:00 Uhr\nTracks: 18:00 - 20:00 Uhr\nEndnote: 20:00-20:1
 5 Uhr\n\nKeynote: „Rise of Autonomous Mobile Robots – Azure on the mov
 e”\n\nIn this Keynote\, Marek Matuszewski shows the current use cases re
 alized together with Microsoft dedicated to mobile robots as IoT Devices c
 onnected to the Azure Cloud. You will experience a demo of capabilities of
  a Spot robot from Boston Dynamics. Marek will not only talk about the ref
 erence architecture used for the autonomous damage detection on cars but w
 ill also inspire you what other possibilities do Azure cloud and Mobile Ro
 bots bring for now and near future.\n\nTrack 1:\na) Dieter Rauscher (Micro
 soft) mit Zertification\nb) Florian Klaffenbach (Microsoft) mit Deploy a v
 irtual WAN landing zone in one hour\n\nTrack 2:\na) Jan Fellin (MVP) - Mic
 rosoft Azure - Serverless\n\nb) Raphael Köllner (Microsoft Regional Direc
 tor) + Thales mit Verschlüsselung in Azure und Office 365 von default Key
  zu BYOK und DKE\n\nWebseite der Gesamtorga: https://globalazure.net/Blog
 /Post/247/Global-Azure-Virtual-2021-is-here\n\n#GlobalAzure #azurecgn
CATEGORIES:Meetup
LOCATION:https://www.meetup.com/de-DE/Azure-Cologne-Meetup/events/275691608
 /
END:VEVENT
BEGIN:VTIMEZONE
TZID:Europe/Berlin
X-LIC-LOCATION:Europe/Berlin
BEGIN:DAYLIGHT
DTSTART:20210328T030000
TZOFFSETFROM:+0100
TZOFFSETTO:+0200
TZNAME:CEST
END:DAYLIGHT
END:VTIMEZONE
END:VCALENDAR