BEGIN:VCALENDAR
VERSION:2.0
PRODID:-//wp-events-plugin.com//7.2.3.1//EN
TZID:Europe/Berlin
X-WR-TIMEZONE:Europe/Berlin
BEGIN:VEVENT
UID:0-2381@sharepointsocial.de
DTSTART;TZID=Europe/Berlin:20240625T180000
DTEND;TZID=Europe/Berlin:20240625T193000
DTSTAMP:20240614T091825Z
URL:https://sharepointsocial.de/events/global-ai-hamburg-getting-started-w
 ith-azure-ai-studio/
SUMMARY:Global AI Hamburg : Getting Started with Azure AI Studio
DESCRIPTION:Global AI Community Hamburg : AI and Intelligent Cloud Hamburg\
 n\nDive into Azure AI Studio - a cutting-edge 'code first' experience for 
 building generative AI copilots. You will start by touring the studio expe
 rience\, moving on to creating a RAG model\, learn how to integrate Micros
 oft Fabric\, exploring other multi-modal models and wrapping up with the i
 mportance of evaluations and deployments. Join us and harness the power of
  Azure AI Studio to transform your ideas into reality!
CATEGORIES:Meetup
LOCATION:https://www.meetup.com/de-DE/ai-and-intelligent-cloud-hamburg/even
 ts/301177305/
END:VEVENT
BEGIN:VTIMEZONE
TZID:Europe/Berlin
X-LIC-LOCATION:Europe/Berlin
BEGIN:DAYLIGHT
DTSTART:20240331T030000
TZOFFSETFROM:+0100
TZOFFSETTO:+0200
TZNAME:CEST
END:DAYLIGHT
END:VTIMEZONE
END:VCALENDAR