BEGIN:VCALENDAR
VERSION:2.0
PRODID:-//wp-events-plugin.com//7.2.3.1//EN
TZID:Europe/Berlin
X-WR-TIMEZONE:Europe/Berlin
BEGIN:VEVENT
UID:0-2385@sharepointsocial.de
DTSTART;TZID=Europe/Berlin:20240704T190000
DTEND;TZID=Europe/Berlin:20240704T210000
DTSTAMP:20240625T111812Z
URL:https://sharepointsocial.de/events/global-ai-cologne-responsible-ai-un
 d-der-ai-act/
SUMMARY:Global AI Cologne: Responsible AI und der AI Act
DESCRIPTION:Es wird spannend in Europa! Wir haben den AI Act und immer mehr
  Regelungen rund um das Thema Responsivle AI.\nIn diesem Meetup wollen wir
  uns diese einmal anschauen und einen Kurzüberblick bekommen.\nEbenso geh
 en wir der Frage nach\, ob Copilot und Open AI diese Regelungen einhalten 
 oder einhalten können. Was tut Microsoft in diesem Bereich?\nSprecher: Ra
 phael Köllner
CATEGORIES:Meetup
LOCATION:https://www.meetup.com/de-DE/global-ai-cologne/events/301352182/
END:VEVENT
BEGIN:VTIMEZONE
TZID:Europe/Berlin
X-LIC-LOCATION:Europe/Berlin
BEGIN:DAYLIGHT
DTSTART:20240331T030000
TZOFFSETFROM:+0100
TZOFFSETTO:+0200
TZNAME:CEST
END:DAYLIGHT
END:VTIMEZONE
END:VCALENDAR