BEGIN:VCALENDAR
VERSION:2.0
PRODID:-//wp-events-plugin.com//7.2.3.1//EN
TZID:Europe/Berlin
X-WR-TIMEZONE:Europe/Berlin
BEGIN:VEVENT
UID:0-2387@sharepointsocial.de
DTSTART;TZID=Europe/Berlin:20240731T180000
DTEND;TZID=Europe/Berlin:20240731T200000
DTSTAMP:20240627T115409Z
URL:https://sharepointsocial.de/events/global-ai-berlin-community-kickoff-
 and-mixer/
SUMMARY:Global AI Berlin Community | Kickoff and Mixer
DESCRIPTION:Dear Community\,\nWelcome onboard - it's great to have you all 
 here!\nThrilled to meet you all and kickoff the community with you - We wi
 ll have inspirational talks and fun activities. We would love to learn mor
 e about your scopes and needs to accordingly shape th community.\nPlease s
 tay tuned for updates on this event - let's do this Berlin's most incredib
 le AI Community.\nLooking forward!\nZaid18:00
CATEGORIES:Meetup
LOCATION:https://www.meetup.com/global-ai-berlin/events/301895240
END:VEVENT
BEGIN:VTIMEZONE
TZID:Europe/Berlin
X-LIC-LOCATION:Europe/Berlin
BEGIN:DAYLIGHT
DTSTART:20240331T030000
TZOFFSETFROM:+0100
TZOFFSETTO:+0200
TZNAME:CEST
END:DAYLIGHT
END:VTIMEZONE
END:VCALENDAR