BEGIN:VCALENDAR
VERSION:2.0
PRODID:-//wp-events-plugin.com//7.2.3.1//EN
TZID:Europe/Berlin
X-WR-TIMEZONE:Europe/Berlin
BEGIN:VEVENT
UID:0-1730@sharepointsocial.de
DTSTART;TZID=Europe/Berlin:20210609T090000
DTEND;TZID=Europe/Berlin:20210609T170000
DTSTAMP:20210602T075159Z
URL:https://sharepointsocial.de/events/futurework21/
SUMMARY:futurework21
DESCRIPTION:Die #futurework21 geht in die nächste Runde!\n\nUPDATE 26.4.20
 21 : Die FutureWork 2021 findet nur virtuell statt\n\nAm 9. Juni feiern wi
 r gemeinsam mit euch wieder das größte Festival zur Zukunft der Arbeit i
 n Deutschland – vor Ort auf dem EUREF-Campus in Berlin und als virtuelle
 s Event im Netz. Wir erwarten wieder mehr als 2.500 Gäste und möchten mi
 t euch und unseren zahlreichen hochkarätigen und internationalen Speakern
  online wie offline diskutieren\, wie wir die Arbeitswelt von morgen gemei
 nsam gestalten können.\n\n\nMerkt euch den Termin schon jetzt vor!\n\n\nL
 ink zur Eventwebsite\n\n\n&nbsp\;\n\n
CATEGORIES:Konferenz,Meetup
LOCATION:https://www.futurework.online/home.html
END:VEVENT
BEGIN:VTIMEZONE
TZID:Europe/Berlin
X-LIC-LOCATION:Europe/Berlin
BEGIN:DAYLIGHT
DTSTART:20210328T030000
TZOFFSETFROM:+0100
TZOFFSETTO:+0200
TZNAME:CEST
END:DAYLIGHT
END:VTIMEZONE
END:VCALENDAR