BEGIN:VCALENDAR
VERSION:2.0
PRODID:-//wp-events-plugin.com//7.2.3.1//EN
TZID:Europe/Berlin
X-WR-TIMEZONE:Europe/Berlin
BEGIN:VEVENT
UID:0-2397@sharepointsocial.de
DTSTART;TZID=Europe/Berlin:20240722T190000
DTEND;TZID=Europe/Berlin:20240722T200000
DTSTAMP:20240716T054450Z
URL:https://sharepointsocial.de/events/future-skills-lernen-fuer-morgen/
SUMMARY:Future Skills | Lernen für Morgen
DESCRIPTION:In einer Zeit\, in der die Digitalisierung und der technologisc
 he Wandel viele traditionelle Arbeitsplätze transformieren\, ist das Wiss
 en um bestimmte Fähigkeiten von entscheidender Bedeutung - die sogenannte
 n "Future Skills".\nDiesmal haben wir einen ganz besonderen Gast: Maximili
 an Kleinsorg\, Experte im Bereich Bildung und Personalentwicklung\, sowie 
 CEO der Lernplattform DayOff. Mit ihm werden wir in die spannende Welt die
 ser Future Skills eintauchen. Wir werden darüber sprechen\, wie man die r
 elevanten Future Skills identifiziert und welche Strategien und Methoden a
 m besten geeignet sind\, um sich diese effektiv anzueignen.\nWie können U
 nternehmen und Bildungseinrichtungen auf den Wandel reagieren\, um ihre Mi
 tarbeiter:innen und Studierende optimal auf die Zukunft vorzubereiten. Wie
  kann sich jeder Einzelne von uns auf die kommenden Herausforderungen vorb
 ereiten? Wie vermeiden wir\, in der sich ständig ändernden Arbeitswelt u
 nterzugehen?\nDarüber und noch mehr sprechen wir mit Maximilian und euch 
 in unserer nächsten Sendung am 22.07.
CATEGORIES:Meetup
LOCATION:https://www.meetup.com/future_skills/events/302113506/
END:VEVENT
BEGIN:VTIMEZONE
TZID:Europe/Berlin
X-LIC-LOCATION:Europe/Berlin
BEGIN:DAYLIGHT
DTSTART:20240331T030000
TZOFFSETFROM:+0100
TZOFFSETTO:+0200
TZNAME:CEST
END:DAYLIGHT
END:VTIMEZONE
END:VCALENDAR