BEGIN:VCALENDAR
VERSION:2.0
PRODID:-//wp-events-plugin.com//7.2.3.1//EN
TZID:Europe/Berlin
X-WR-TIMEZONE:Europe/Berlin
BEGIN:VEVENT
UID:0-2371@sharepointsocial.de
DTSTART;TZID=Europe/Berlin:20240611T090000
DTEND;TZID=Europe/Berlin:20240611T180000
DTSTAMP:20240502T101451Z
URL:https://sharepointsocial.de/events/experts-live-germany-2024/
SUMMARY:Experts Live Germany 2024
DESCRIPTION:Experts Live Germany 2024 - 11. Juni 2024 in Erfurt\nDa ist es 
 schon wieder soweit … nach grandiosem Debut in 2022 und hervorragendem F
 eedback im Jahre 2023 wird es auch 2024 wieder eine Experts Live Germany i
 n Erfurt geben. Aber seht selbst.\n\nAnmeldung und Tickets auf  Experts L
 ive Germany https://expertslive.de/#ticket_section\n\nWas?\nMit der Expert
 s Live Germany bringen wir die deutschsprachige IT-Community\, auch 2024 w
 ieder zusammen. Im Fokus stehen dabei Microsoft Cloud\, Hybrid und On-Prem
 ises Lösungen. Hierbei erwarten euch spannende Vorträge\, Demos und Disk
 ussionen mit Microsoft MVPs und erfahrenen Microsoft Experten und Expertin
 nen. Dabei reiht sich die Experts Live Germany in eine Reihe von weltweite
 n Events unter dem Namen Experts Live ein.\n\nWann?\nDie Community-Konfere
 nz findet am 11. Juni 2024 statt. Die Türen öffnen sich ab 8 Uhr\, so da
 ss wir pünktlich um 9 Uhr mit der Keynote starten können. Gegen 17 Uhr s
 chließen wir die Veranstaltung nach der Abschluss Keynote und der Verlosu
 ng unserer Sponsoren-Giveaways.\n\nWo?\nWir bleiben in Erfurt und damit fi
 ndet die Experts Live Germany erneut im grünen Herzen Deutschlands statt.
  In Thüringen\, treffen sich die Expertinnen und Experten aus dem deutsch
 prachigen Raum. Warum Erfurt? Als zentraler Knotenpunkt für den Bahnverke
 hr ist Erfurt für jeden und jede gut zu erreichen\, egal ob Berlin\, Fran
 kfurt\, München oder Stuttgart. Und auch wer mit dem Auto anreisen muss /
  will kommt über A4 und A71 ohne Probleme schnell ans Ziel.\n\nWie?\nBei 
 Teilnahme an der Konferenz akzeptieren alle Teilnehmenden\, Sponsoren und 
 Gäste unseren Code of Conduct\n\nWir freuen uns auf eure Teilnahme!\n\nEu
 er Orga-Team\nCarsten &amp\; Eric\n\nVerfügbare Tickets
CATEGORIES:Konferenz,Meetup
LOCATION:Zughafen Erfurt\, Zum Güterbahnhof 20\, Erfurt\, Deutschland
X-APPLE-STRUCTURED-LOCATION;VALUE=URI;X-ADDRESS=Zum Güterbahnhof 20\, Erfu
 rt\, Deutschland;X-APPLE-RADIUS=100;X-TITLE=Zughafen Erfurt:geo:0,0
END:VEVENT
BEGIN:VTIMEZONE
TZID:Europe/Berlin
X-LIC-LOCATION:Europe/Berlin
BEGIN:DAYLIGHT
DTSTART:20240331T030000
TZOFFSETFROM:+0100
TZOFFSETTO:+0200
TZNAME:CEST
END:DAYLIGHT
END:VTIMEZONE
END:VCALENDAR