BEGIN:VCALENDAR
VERSION:2.0
PRODID:-//wp-events-plugin.com//7.2.3.1//EN
TZID:Europe/Berlin
X-WR-TIMEZONE:Europe/Berlin
BEGIN:VEVENT
UID:0-1897@sharepointsocial.de
DTSTART;TZID=Europe/Berlin:20221128T000000
DTEND;TZID=Europe/Berlin:20221201T000000
DTSTAMP:20211014T103834Z
URL:https://sharepointsocial.de/events/european-sharepoint-office-365-and-
 azure-conference-espc22/
SUMMARY:European SharePoint\, Office 365 and Azure Conference ESPC22
DESCRIPTION:Save the date and preregister\n\nIt is with great excitement th
 at we announce ESPC22\, Europe’s gold standard Microsoft technologies
  conference\, will return as a live\, in-person conference on 28 Nov –
  1 Dec 2022 in Copenhagen. The big one is coming back!We can’t wait to b
 ring the community together for the magic of ESPC and a safe return of i
 n-person events. ESPC22 tickets will be released early in 2022. Enter you
 r email below to be notified.
CATEGORIES:Konferenz
LOCATION:https://www.sharepointeurope.com/pricing/
END:VEVENT
BEGIN:VTIMEZONE
TZID:Europe/Berlin
X-LIC-LOCATION:Europe/Berlin
BEGIN:STANDARD
DTSTART:20221030T020000
TZOFFSETFROM:+0200
TZOFFSETTO:+0100
TZNAME:CET
END:STANDARD
END:VTIMEZONE
END:VCALENDAR