BEGIN:VCALENDAR
VERSION:2.0
PRODID:-//wp-events-plugin.com//7.2.3.1//EN
TZID:Europe/Berlin
X-WR-TIMEZONE:Europe/Berlin
BEGIN:VEVENT
UID:6-80@sharepointsocial.de
DTSTART;TZID=Europe/Berlin:20161114T090000
DTEND;TZID=Europe/Berlin:20161117T180000
DTSTAMP:20160126T180431Z
URL:https://sharepointsocial.de/events/european-sharepoint-conference-2016
 -vienna/
SUMMARY:European SharePoint Conference 2016 Vienna
DESCRIPTION:The European SharePoint Conference is the largest European even
 t covering Microsoft SharePoint\, Microsoft Office 365\, and all related c
 loud-based and enterprise social technologies. Mark your calendars from 14
  - 17 November when Vienna\, Austria will host the 2016 European SharePoin
 t Conference. This conference will deliver powerful content on SharePoint 
 and Office 365 for IT professionals\, developers and executives!\nCall for
  Papers\nSubmissions are invited from MVPs\, IT Managers\, Business Users\
 , IT Professionals\, Developers\, Consultants\, Project Managers or anyone
  with interesting experiences about implementing\, embracing and enjoying 
 all SharePoint and Office 365 technologies.\n\nNote: Conference sessions w
 ill be approximately 60 minutes in length (subject to change).\n\nClosing 
 date for receipt of submissions is 26th February 2016\n\nSubmit to speak 
 at ESPC 2016\n\n&nbsp\;
CATEGORIES:Konferenz
LOCATION:Austria Centre Vienna\, Bruno-Kreisky-Platz 1\, Wien\, 1220\, Öst
 erreich
GEO:48.234902;16.413755700000024
X-APPLE-STRUCTURED-LOCATION;VALUE=URI;X-ADDRESS=Bruno-Kreisky-Platz 1\, Wie
 n\, 1220\, Österreich;X-APPLE-RADIUS=100;X-TITLE=Austria Centre Vienna:ge
 o:48.234902,16.413755700000024
END:VEVENT
BEGIN:VTIMEZONE
TZID:Europe/Berlin
X-LIC-LOCATION:Europe/Berlin
BEGIN:STANDARD
DTSTART:20161030T020000
TZOFFSETFROM:+0200
TZOFFSETTO:+0100
TZNAME:CET
END:STANDARD
END:VTIMEZONE
END:VCALENDAR