BEGIN:VCALENDAR
VERSION:2.0
PRODID:-//wp-events-plugin.com//7.2.3.1//EN
TZID:Europe/Berlin
X-WR-TIMEZONE:Europe/Berlin
BEGIN:VEVENT
UID:0-1900@sharepointsocial.de
DTSTART;TZID=Europe/Berlin:20220406T090000
DTEND;TZID=Europe/Berlin:20220408T180000
DTSTAMP:20211015T072517Z
URL:https://sharepointsocial.de/events/european-power-platform-conference-
 2022/
SUMMARY:European Power Platform Conference 2022
DESCRIPTION:Taking place in the incredibly cool city of Berlin from 6-8 Apr
 il 2022\, the European Power Platform Conference brings together the Micr
 osoft Power Platform and Dynamics 365 Communities\, for 3 unrivalled days 
 of in-person learning\, sharing and networking.\n\nAttend the European Pow
 er Platform Conference to dive into Microsoft’s Power Platform stack and
  avail of a host of professional development opportunities\, including 2 i
 nspirational keynotes\, 4 expert full day tutorials and 60+ specialist ses
 sions\, delivered by global Power Platform experts and community leaders. 
 Gain expert insight and hear the latest innovations across Power Apps\, Po
 wer BI\, Power Automate\, Power Virtual Agents and Dynamics.\n\nAlongside 
 500+ of your professional peers\, expect actionable best practice\, insigh
 t and inspiration from the people who build the tools and solutions you an
 d your teams can use every day to succeed and thrive.\n\nEventwebsite: Get
  ready to power up at the European Power Platform Conference
CATEGORIES:Konferenz
LOCATION:Titanic Chaussee Berlin\, Chausseestraße 30\, Berlin\, 10115\, De
 utschland
X-APPLE-STRUCTURED-LOCATION;VALUE=URI;X-ADDRESS=Chausseestraße 30\, Berlin
 \, 10115\, Deutschland;X-APPLE-RADIUS=100;X-TITLE=Titanic Chaussee Berlin:
 geo:0,0
END:VEVENT
BEGIN:VTIMEZONE
TZID:Europe/Berlin
X-LIC-LOCATION:Europe/Berlin
BEGIN:DAYLIGHT
DTSTART:20220327T030000
TZOFFSETFROM:+0100
TZOFFSETTO:+0200
TZNAME:CEST
END:DAYLIGHT
END:VTIMEZONE
END:VCALENDAR