BEGIN:VCALENDAR
VERSION:2.0
PRODID:-//wp-events-plugin.com//7.2.3.1//EN
TZID:Europe/Berlin
X-WR-TIMEZONE:Europe/Berlin
BEGIN:VEVENT
UID:0-2386@sharepointsocial.de
DTSTART;TZID=Europe/Berlin;VALUE=DATE:20250526
DTEND;TZID=Europe/Berlin;VALUE=DATE:20250529
DTSTAMP:20240625T112943Z
URL:https://sharepointsocial.de/events/european-collaboration-summit-2025/
SUMMARY:European Collaboration Summit 2025
DESCRIPTION:With 3000 attendees\, the European Collaboration Summit is the 
 largest conference in the world focused on Modern Work\, Microsoft 365\, a
 nd Copilot.\n\nSave the date  European Collaboration Summit (collabsummit
 .eu)\n\n&nbsp\;\n\n&nbsp\;\n\nThe largest Microsoft 365 conference in the 
 world\n\n\n\n\n3000+ attendees\n\n\n3000+ Attendees from all over the worl
 d joins the European Collaboration Summit year after year.\n\n\n\n\n75+ Sp
 onsors and Exhibitors\n\n\nEuropean Collaboration Summit features the larg
 est Microsoft 365\, Power Platform\, Azure\, and OpenAI Expo in the world\
 n\n\n\n\n120+ Speakers\n\n\n120+ of world-best Microsoft 365 speakers and 
 experts will join the CollabSummit\, including Microsoft\, Microsoft Regio
 nal Directors\, and Microsoft MVPs.\n\n\n\n\n150+ Sessions\n\n\nCollabSumm
 it attendees can participate at 150+ breakout sessions\, keynotes\, tutori
 als and panels.\n\n\n\n
CATEGORIES:Konferenz,Meetup
LOCATION:CCD / Messe Düsseldorf\, Stockumer Kirchstraße 61\, Düsseldorf\
 , Deutschland
X-APPLE-STRUCTURED-LOCATION;VALUE=URI;X-ADDRESS=Stockumer Kirchstraße 61\,
  Düsseldorf\, Deutschland;X-APPLE-RADIUS=100;X-TITLE=CCD / Messe Düsseld
 orf:geo:0,0
END:VEVENT
BEGIN:VTIMEZONE
TZID:Europe/Berlin
X-LIC-LOCATION:Europe/Berlin
BEGIN:DAYLIGHT
DTSTART:20250330T030000
TZOFFSETFROM:+0100
TZOFFSETTO:+0200
TZNAME:CEST
END:DAYLIGHT
END:VTIMEZONE
END:VCALENDAR