BEGIN:VCALENDAR
VERSION:2.0
PRODID:-//wp-events-plugin.com//7.2.3.1//EN
TZID:Europe/Berlin
X-WR-TIMEZONE:Europe/Berlin
BEGIN:VEVENT
UID:0-1568@sharepointsocial.de
DTSTART;TZID=Europe/Berlin:20200910T090000
DTEND;TZID=Europe/Berlin:20200910T150000
DTSTAMP:20200819T125506Z
URL:https://sharepointsocial.de/events/elearning-summit-tour-2020-konferen
 z-01-livestream/
SUMMARY:eLearning SUMMIT Tour 2020: Konferenz 01/Livestream
DESCRIPTION:\n\n\n\nPREMIERE: Wir laden zur ersten Webkonferenz 2020\n\nLie
 be Community\,\n\nIn diesem Jahr haben wir Ihnen die einmalige Möglichkei
 t\, Sie alle durch einen Live-Stream "hautnah" an unseren Veranstaltungen 
 der eLearning SUMMIT Tour teilhaben zu lassen – an der größten Konfere
 nzreihe zum Thema Corporate Learning in der DACH-Region.\n\nWas erwartet m
 ich?\n\nWährend der eLearning SUMMIT Tour 2020 geben über 100 Referenten
  Einblick in die digitalen Lernwelten ihres Unternehmens. Über 20 Wissens
 chaftler werden überbetriebliche\, wissenschaftliche Deutungen zur Entwic
 klung der digitalen Transformation der betrieblichen Bildung beisteuern. V
 or diesem Hintergrund haben sich seit Beginn des Jahres schon weit über 4
 .000 Teilnehmende für eine online-Veranstaltung des eLearning SUMMIT digi
 tal entschieden - jetzt erweitern wir das Feld um die allseits beliebte eL
 earning SUMMIT Tour.\n\nWie kann ich teilnehmen?\n\nLive-Stream-Ticket: Mi
 t diesem Ticket erhalten Sie Zugang zu unserem professionellen Live-Stream
 -Service. So können Sie digital von zuhause oder unterwegs an unserer Ver
 anstaltung teilnehmen.\n\nRegistrieren Sie sich direkt hier über den Butt
 on "kostenlos teilnehmen".\n\n&nbsp\;\n\nBeste Grüße\n\nIhr Team vom eLe
 arning Journal\n\n\n\n\n\nProgramm\n\n\nWir freuen uns auf ein abwechslung
 sreiches Programm mit vielen Programmbeteiligten aus Wissenschaft und Wirt
 schaft. Als unseren Wake-Up-Call begrüßen wir Prof. Dr. Matthias Ballod
  von der MLU Halle-Wittenberg:\n\nE-Didaktik in Zeiten von E-Learning\nD
 igitale Lehr-Lern-Arrangements wurden spätestens nach dem erstem 1. E-Lea
 rning-Hype zur Milleniumswende als blended-Learning gedacht und gemacht. N
 un hat Corona in vielen Bildungsbereichen zu reinen Online-Angeboten gefü
 hrt\; Präsenz war z.T. gar nicht möglich. Im Beitrag wird erläutert\, w
 orauf didaktisch zu achten ist\, um sozial-kooperatives Lernen auch virtue
 ll zu unterstützen. Erfahrungswerte aus dem Digitalsemester\, didaktisch-
 methodisches Know-how sowie die Vorstellung zweckmäßiger Tools sichern e
 inen multiperspektivischen Zugang.\n\nFür die Best-Practice-Vorträge kon
 nten wir Vanessa Küllmer von der Postbank Akademie &amp\; Service GmbH
  gewinnen:\n\nVirtuelle Trainings: Alles außer anfassen...\nMein Best Pr
 actice-Vortrag stellt die wesentlichen Herausforderungen dar\, die wir als
  Unternehmen mit dem virtuellen Klassenzimmer hatten bzw. haben. Besonders
  werde ich darauf eingehen\, wie wir unsere Trainer davon überzeugen muss
 ten bzw. immer nöch müssen und wie wir teils bestehende Konzepte in virt
 uelle Konzepte umgewandelt haben. Abschließend werde ich auf die Vorteile
  und den positiven Effekt der Corona-Krise eingehen\, weil dies alles ver
 ändert hat.\n\nDarüberhinaus hören wir einen Best-Practice-Vortrag von
  Anica Schulz von der KSK Köln:\n\nTraditionelle Ausbildungsphilosophi
 e meets eLearning\nVor welchen Herausforderungen stehen wir als Sparkasse 
 im Hinblick auf eLearning und wie bewältigen wir diese?\n- Technische Aus
 stattung der Auszubildenden und eLearning in einem Beruf der durch persön
 liche Beziehung geprägt ist\n- Befähigung der Ausbilder\n- Verzahnung tr
 aditioneller Werte mit der Moderne\, ohne Verlust von Nähe zum Auszubilde
 nden/Kunden\n\nsowie von Uwe Schirrmacher von Schirrmacher GmbH: \n\nD
 ie Schirrmacher Online-Akademie für ein modernes Führungskräfte-Traini
 ng umgesetzt mit dem Partner keeunit GmbH\nZiel war es unsere Lerninhalte
 \, Lernvideos zu den Themen Führung unsern Trainern und Kunden zur Verfü
 gung zu stellen.\nAnforderungen waren: Service orientierter deutscher Part
 ner\, schnelle Umsetzung\, modernste Technik\, eigene Inhalte einstellen\,
  einfache Bedienung\, modernes Design\, in unserem Branding...\n\n&nbsp\;\
 n\nHinweis: Nach erfolgreicher Anmeldung übersenden wir Ihnen eine tabel
 larische Übersicht zu Programmführung: Sie gibt Ihnen einen Überblick 
 über die einzelnen Programmpunkte und ihre zeitliche Verortung. So könne
 n Sie den Live-Stream auch flexibel in Ihren Arbeitsalltag und/oder das Ho
 me Office integrieren. Sie können das Dokument auch im "Teilnehmerbereich
 " des Events einsehen.\n\n\n\nVerfolgen Sie die Keynote-&amp\; Best-Practi
 ce-Vorträge der eLearning SUMMIT Tour 2020 - tauchen Sie ein in die Lerns
 zenarien der betrieblichen Bildung –unabhängig vom Zeit &amp\; Ort: Ein
 fach im Live-Stream...\n\n=========================================\n\nhtt
 ps://www.xing.com/events/3029251
CATEGORIES:Konferenz,Meetup
LOCATION:https://www.xing.com/events/3029251
END:VEVENT
BEGIN:VTIMEZONE
TZID:Europe/Berlin
X-LIC-LOCATION:Europe/Berlin
BEGIN:DAYLIGHT
DTSTART:20200329T030000
TZOFFSETFROM:+0100
TZOFFSETTO:+0200
TZNAME:CEST
END:DAYLIGHT
END:VTIMEZONE
END:VCALENDAR