BEGIN:VCALENDAR
VERSION:2.0
PRODID:-//wp-events-plugin.com//7.2.3.1//EN
TZID:Europe/Berlin
X-WR-TIMEZONE:Europe/Berlin
BEGIN:VEVENT
UID:0-1567@sharepointsocial.de
DTSTART;TZID=Europe/Berlin:20201211T100000
DTEND;TZID=Europe/Berlin:20201211T120000
DTSTAMP:20200819T125237Z
URL:https://sharepointsocial.de/events/elearning-summit-speed-geeking/
SUMMARY:eLearning SUMMIT Speed Geeking
DESCRIPTION:Liebe Community\,\n\n\n\nDas Speed Geeking hat sich als Online-
 Format aus der eLearning SUMMIT Tour entwickelt\, bei dessen Veranstaltu
 ngen das Speed Geeking einen eigenständigen Programmpunkt darstellt. Es 
 bietet Ihnen nicht nur inhaltlichen Mehrwert\, sondern auch eine umfassen
 de Orientierung zum jeweiligen Veranstaltungs-Thema.\n\n\n\n\nDas erste S
 UMMIT Speed Geeking thematisiert das Thema „Künstliche Intelligenz“ a
 ls zukunftsrelevante Thematik für die digitale Transformation der betr
 ieblichen Bildung. Daher freuen wir uns besonders\, dass wir Herrn Dr. Dan
 iel Stoller-Schai als Einstieg für einen Impulsvortrag gewinnen konnten
 . Er wird in die Grundlagen von KI einführen und danach erläutern\, f
 ür welche konkreten\, praxisbezogenen Handlungsfelder sich KI in der b
 etrieblichen Bildung besonders eignet.\n\n\nExklusiv an unsere XING-Grupp
 enmitglieder verschenken wir 100 Karten für das SUMMIT Speed Geeking!\nB
 ei Interesse\, nutzen Sie gerne den Promocode\, den wir Ihnen zugeschickt 
 haben.\n\nAber: Die Tickets sind auf 100 begrenzt – schnell sein lohnt s
 ich also. Registrieren Sie sich am besten noch heute und nehmen Sie kosten
 frei an unserem SUMMIT Webinar am 11. Dezember 2020 ab 10:00 Uhr teil.\n\n
 Über diesen Link erhalten Sie weitere Informationen:  https://bit.ly/1s
 peedgeeking\n\nMit dem Rabatt-Code: EarlyBird können Sie Ihren Ticketprei
 s außerdem noch bis zum 15. November 2020 um 50% reduzieren.\n\nWie viele
  schon erfahren haben\, haben wir unsere eLearning SUMMIT Tour 2020 aufg
 rund von Covid-19 in den Herbst verschoben: Sie startet dann am 08. 
 September mit unserem Halt im Seminarhotel “Bocken” in Zürich. Mehr
  Informationen zur eLearning SUMMIT Tour und unserem Hygienekonzept finden
  sie hier: https://bit.ly/SummitTour2020\n\nIn der Zwischenzeit haben wir
  für Sie neue Veranstaltungsformate und -programme erarbeitet\, die I
 hr stattdessen nun digital ausprobieren könnt. Mit einem Blended-Learn
 ing-Setting bestehend aus der Verzahnung der internationalen eLearning S
 UMMIT Konferenzreihe mit zahlreichen Online-Eventformaten sowie eine Verb
 indung mit über 45.000 Followern in den bereits entstandenen Social-Med
 ia-Gruppen und -Plattformen bietet der eLearning SUMMIT 2020 zahlreiche
  neue Erprobungsräume der Begegnung und des Erfahrungsaustausches 
 zur digitalen Transformation der betrieblichen Bildung. Unter dem Hashtag
  #eLearningFriday10am findet freitags um 10:00 Uhr jeweils ein Online-Ev
 ent mit Programmbeteiligten des eLearning SUMMIT 2020 statt.\nWeitere Info
 rmationen sowie unseren Veranstaltungskalender finden Sie hier: https://b
 it.ly/SummitDigital2020\n\nWir freuen uns\, dass wir Ihnen mit diesem Ange
 bot etwas von Ihrem Engagement zurückgeben können – beteiligen Sie sic
 h reichlich und seien Sie schnell: Wir freuen uns auf Sie!\n\n\nBeste Grü
 ße\n\nIhr Team vom eLearning Journal
CATEGORIES:Konferenz,Meetup
LOCATION:https://www.xing.com/events/premiere-summit-speed-geeking-3002335
END:VEVENT
BEGIN:VTIMEZONE
TZID:Europe/Berlin
X-LIC-LOCATION:Europe/Berlin
BEGIN:STANDARD
DTSTART:20201025T020000
TZOFFSETFROM:+0200
TZOFFSETTO:+0100
TZNAME:CET
END:STANDARD
END:VTIMEZONE
END:VCALENDAR