BEGIN:VCALENDAR
VERSION:2.0
PRODID:-//wp-events-plugin.com//7.2.3.1//EN
TZID:Europe/Berlin
X-WR-TIMEZONE:Europe/Berlin
BEGIN:VEVENT
UID:6-555@sharepointsocial.de
DTSTART;TZID=Europe/Berlin:20170918T110000
DTEND;TZID=Europe/Berlin:20170918T120000
DTSTAMP:20170914T082510Z
URL:https://sharepointsocial.de/events/eingangsrechnungsbearbeitung-auf-ba
 sis-sharepoint/
SUMMARY:Eingangsrechnungsbearbeitung auf Basis SharePoint
DESCRIPTION:Hoher manueller Aufwand\, langsamer Durchsatz und fehlende Übe
 rsicht bei der papierbezogenen Bearbeitung und Prüfung von Rechnungen\, s
 o schaut der Alltag in noch immer vielen Unternehmen aus.\nDies führt daz
 u\, dass Mitarbeiter der Buchhaltung täglich mit Kopieren von Unterlagen 
 und der Nachfrage nach dem Bearbeitungsstatus einer Rechnung konfrontiert 
 werden.\nEin Umstand\, der geändert werden kann\, denn seit der Vereinfac
 hung des Steuergesetztes 2011 sind Papierrechnungen und elektronische Rech
 nungen gleichgestellt. Rechnungen\, die elektronisch in Unternehmen gelang
 en\, müssen im originärem Format - also in digitaler Form - aufbewahrt w
 erden.\nDurch die Automatisierung Ihres Eingangsrechnungsprozesses mittels
  der Henrichsen Best-Practice-Lösungen können Sie mit bis zu 70% Kostene
 insparungen rechnen.\nErfahren Sie in diesem Webcast\, wie Sie die leistun
 gsfähige SharePoint Invoice-Lösung bei der Bewältigung des Eingangsrech
 nungsvolumens und der effizienten Rechnungsbearbeitung (Papier oder digita
 l) unterstützt. Papierrechnungen werden eingescannt\, digitale Rechnungen
  laufen automatisiert in ein eigens dafür vorgesehenes Postfach. Rechnung
 skopf- und Positionsdaten werden ausgelesen und mit den Stammdaten des ERP
 -Systems abgeglichen.\nWollen auch Sie Ihren Eingangsrechnungsprozess mode
 rnisieren und gleichzeitig wertvolle Ressourcen und bares Geld sparen? Dan
 n nutzen Sie jetzt Ihre Chance und melden Sie sich und Ihr Team noch heute
  zur kostenfreien Webinar-Teilnahme an!\nDas HENRICHSEN Team freut sich au
 f Ihre Anmeldung.
CATEGORIES:Webcast
END:VEVENT
BEGIN:VTIMEZONE
TZID:Europe/Berlin
X-LIC-LOCATION:Europe/Berlin
BEGIN:DAYLIGHT
DTSTART:20170326T030000
TZOFFSETFROM:+0100
TZOFFSETTO:+0200
TZNAME:CEST
END:DAYLIGHT
END:VTIMEZONE
END:VCALENDAR