BEGIN:VCALENDAR
VERSION:2.0
PRODID:-//wp-events-plugin.com//7.2.3.1//EN
TZID:Europe/Berlin
X-WR-TIMEZONE:Europe/Berlin
BEGIN:VEVENT
UID:0-1846@sharepointsocial.de
DTSTART;TZID=Europe/Berlin:20210927T160000
DTEND;TZID=Europe/Berlin:20211001T180000
DTSTAMP:20210816T105926Z
URL:https://sharepointsocial.de/events/einfach365-powerweek-september-2021
 -lernen-mit-durch-ueber-m365/
SUMMARY:einfach365 PowerWeek September 2021 – Lernen mit | durch | über 
 M365
DESCRIPTION:Sind Sie Anwender:in\, und\n\n 	müssen sich ohne Schulung in M
 365 zurecht finden und sind sich dessen nicht bewusst\, wie zahlreich die 
 Lernressourcen sind und welche Best Practices es gibt\;\n 	fühlen sich in
  M365 bereits wohl und wollen sich zum Power User entwickeln\;\n 	sollen m
 it M365 eine Wissensmanagement Plattform aufbauen und sind sich unsicher\,
  wie und wo man beginnen kann\;\n 	sind im Lernbereich / Training tätig u
 nd haben Interesse an neuen Impulsen\;\n 	sind speziell für M365 als Trai
 ningsplattform verantwortlich und wollen ihren Horizont an Möglichkeiten 
 erweitern.\n\nDann sind Sie bei der PowerWeek im September richtig – ein
 em kostenlosen Event\, organisiert von der Community für die Community! #
 sharingiscaring #communityrocks\n\nAn bis zu fünf Tagen werden täglich 
 – zwischen 16h und 18h – interessante Inhalte rund um das Thema Lernen
  in Verbindung mit Microsoft 365 präsentiert. Ziel dieser PowerWeek ist e
 s\, Tools und Techniken für Wissensmanagement aufzuzeigen\, M365 als mög
 liche Lernplattform vorzustellen\, und die Welt der Microsoft Ressourcen g
 reifbar zu machen\, um das Gelernte im Nachgang selbständig umsetzen zu k
 önnen.\n\nzum Call for Speaker\n
CATEGORIES:Meetup
LOCATION:https://einfachm365.de/powerweek-september-2021-lernen-mit-durch-u
 eber-m365/
END:VEVENT
BEGIN:VTIMEZONE
TZID:Europe/Berlin
X-LIC-LOCATION:Europe/Berlin
BEGIN:DAYLIGHT
DTSTART:20210328T030000
TZOFFSETFROM:+0100
TZOFFSETTO:+0200
TZNAME:CEST
END:DAYLIGHT
END:VTIMEZONE
END:VCALENDAR