BEGIN:VCALENDAR
VERSION:2.0
PRODID:-//wp-events-plugin.com//7.2.3.1//EN
TZID:Europe/Berlin
X-WR-TIMEZONE:Europe/Berlin
BEGIN:VEVENT
UID:6-548@sharepointsocial.de
DTSTART;TZID=Europe/Berlin:20170914T100000
DTEND;TZID=Europe/Berlin:20170914T110000
DTSTAMP:20170906T081540Z
URL:https://sharepointsocial.de/events/eine-einfuehrung-in-power-bi/
SUMMARY:Eine Einführung in Power BI
DESCRIPTION:\n\n\n\nIm Webinar "Eine Einführung in Power BI" stellt der de
 utsche Microsoft Data Platform MVP Frank Geisler die Self-Service-BI-Lösu
 ng Power BI von Microsoft vor. Im Rahmen der Demos wird gezeigt\, wie man 
 Daten aus unterschiedlichen Datenquellen extrahieren und transformieren ka
 nn. Danach wird auf Basis der importierten Rohdaten ein Datenmodell erstel
 lt\, auf dem über die mannigfaltigen Visualisierungsmöglichkeiten von Po
 wer BI Berichte und Dashboards gebaut werden. Um das Demo abzurunden erfah
 ren Sie\, wie Sie die erstellten Berichte im Power BI Service veröffentli
 chen.\n\nAnmeldung\nKostenlose Anmeldung über die Event-Website\nReferent
 en\n\n&nbsp\;\n\n\n\n\nFrank Geisler\nData Platform MVP\nGDS Business Inte
 lligence GmbH\n\n\n\n\n\n\n\n\n\nAndreas Hennig\nModerator\nMicrosoft Deut
 schland GmbH\n\n\n\n\n\n\n\n\n\n\n\n\n\n
ATTACH;FMTTYPE=image/jpeg:https://sharepointsocial.de/files/2012/08/Webcas
 t.jpg
CATEGORIES:Webcast
END:VEVENT
BEGIN:VTIMEZONE
TZID:Europe/Berlin
X-LIC-LOCATION:Europe/Berlin
BEGIN:DAYLIGHT
DTSTART:20170326T030000
TZOFFSETFROM:+0100
TZOFFSETTO:+0200
TZNAME:CEST
END:DAYLIGHT
END:VTIMEZONE
END:VCALENDAR