BEGIN:VCALENDAR
VERSION:2.0
PRODID:-//wp-events-plugin.com//7.2.3.1//EN
TZID:Europe/Berlin
X-WR-TIMEZONE:Europe/Berlin
BEGIN:VEVENT
UID:6-82@sharepointsocial.de
DTSTART;TZID=Europe/Berlin:20160225T100000
DTEND;TZID=Europe/Berlin:20160225T104500
DTSTAMP:20160126T180929Z
URL:https://sharepointsocial.de/events/digitales-vertragsmanagement-mit-sh
 arepoint/
SUMMARY:Digitales Vertragsmanagement mit SharePoint
DESCRIPTION:Ein Alegri Webcast\n\n\n\nDie Alegri Vertragsmanagement Lösung
  unterstützt Ihre Vertragsverwaltungsprozesse effizient und einfach. Alle
  Dokumente sind in einer Vertragsakte zentral verfügbar\, einfach zu verw
 alten und schnell aufzufinden. Die Lösung unterstützt die bekannten Funk
 tionen eines Vertragsmanagements. Feste Vertragsinhalte werden von den va
 riabel zu gestaltenden Inhalten\, den mitgeltenden Dokumenten\, getrennt.
   Diese und weitere Features zeigt der Alegri-Webcast.\n\nMelden Sie sich
  zeitnah unter dieser E-Mail-Adresse an unter Angabe von Kontaktdaten\, Th
 ema und Termin.\n\n&nbsp\;
CATEGORIES:Webcast
END:VEVENT
BEGIN:VTIMEZONE
TZID:Europe/Berlin
X-LIC-LOCATION:Europe/Berlin
BEGIN:STANDARD
DTSTART:20151025T020000
TZOFFSETFROM:+0200
TZOFFSETTO:+0100
TZNAME:CET
END:STANDARD
END:VTIMEZONE
END:VCALENDAR