BEGIN:VCALENDAR
VERSION:2.0
PRODID:-//wp-events-plugin.com//7.2.3.1//EN
TZID:Europe/Berlin
X-WR-TIMEZONE:Europe/Berlin
BEGIN:VEVENT
UID:0-1851@sharepointsocial.de
DTSTART;TZID=Europe/Berlin:20210915T173000
DTEND;TZID=Europe/Berlin:20210915T183000
DTSTAMP:20210830T121020Z
URL:https://sharepointsocial.de/events/digitaler-wandel-und-innovation/
SUMMARY:Digitaler Wandel und Innovation
DESCRIPTION:Onlinetalk der Landesfachkommission Digitales Niedersachsen\n\n
 Wir sprechen immer von „Digitalisierung“\, „Digitale Disruption“\,
  „Changemanagement“ und „Kulturwandel“. Aber was bedeutet der digi
 tale Wandel wirklich für Unternehmen und welchen Anreiz haben Unternehmen
  in Digitalisierung/den Wandel zu investieren?\n\nOnlinetalk der Landesfac
 hkommission Digitales Niedersachsen im Wirtschaftsrat.\n\nGeplantes Progra
 mm:\n\n17:00 - 17:05 Uhr Begrüßung durch den Moderator\n\n17:05 – 17:3
 0 Uhr Impulsvortrag\nImpulsvortrag durch Herrn Tobias Krüger\, Division M
 anger Kulturwandel 4.0 bei der Otto Group\nIn seinem Impulsvortag schilder
 t Tobias Krüger\, Division Manger Kulturwandel 4.0 bei der Otto Group\, w
 as der Kulturwandel in seinem Unternehmen bewirkt hat\, aber auch welche H
 indernisse beseitigt werden mussten.\n\n17:30 - 18:30 Uhr Expertentalk\nEx
 pertentalk über die verschiedenen Facetten des digitalen Wandels:\nAus te
 chnischer Sicht: Claus Haase\, CTO | LM IT Services AG\nAus Mitarbeiter Si
 cht: Christoph Twiehaus\, Geschäftsführer | Skillkom GmbH\nAus Sicht der
  Arbeitnehmervertretung: Lutz Pullwitt\, Betriebsrat | Stadtwerke Osnabrü
 ck AG\n\n18:30 Uhr\nVeranstaltungsende
CATEGORIES:Meetup,Partnerevent
LOCATION:https://www.youtube.com/watch?v=pnAcDdevgho
END:VEVENT
BEGIN:VTIMEZONE
TZID:Europe/Berlin
X-LIC-LOCATION:Europe/Berlin
BEGIN:DAYLIGHT
DTSTART:20210328T030000
TZOFFSETFROM:+0100
TZOFFSETTO:+0200
TZNAME:CEST
END:DAYLIGHT
END:VTIMEZONE
END:VCALENDAR