BEGIN:VCALENDAR
VERSION:2.0
PRODID:-//wp-events-plugin.com//7.2.3.1//EN
TZID:Europe/Berlin
X-WR-TIMEZONE:Europe/Berlin
BEGIN:VEVENT
UID:6-49@sharepointsocial.de
DTSTART;TZID=Europe/Berlin:20150917T100000
DTEND;TZID=Europe/Berlin:20150917T180000
DTSTAMP:20150812T172033Z
URL:https://sharepointsocial.de/events/digitaler-arbeitsplatz-wandelnde-we
 rte-und-intelligente-systeme/
SUMMARY:Digitaler Arbeitsplatz - wandelnde Werte und intelligente Systeme
DESCRIPTION:B-S-S Business Software Solutions GmbH lädt anlässlich des 1
 5ten Geburtstages sowie der Eröffnung des neuen Firmensitzes am 17.09.201
 5 zu einem exklusiven Informations- und Networking-Event zum Thema "Digit
 aler Arbeitsplatz - wandelnde Werte und intelligente Systeme" mit praxisn
 ahmen Berichten und hochkarätigen Speakern eiin.\n\n\nModeration: Werner 
 Borschbach\nAgenda\n\n	10:00 - 10:30 Begrüßung &amp\; Eröffnung  (Thom
 as Herbst &amp\; Werner Borschbach)\n	10:30 - 11:00 Datenanalyse zur Unter
 stützung der Entscheidungsfindung im Arbeitsalltag(Prof. Dr. Hagen\, Uni 
 Weimar)\n	11:00 - 11:30 Beispiele moderner Arbeitsweisen in einer hybriden
  Welt (Christian Wittrich\, B-S-S)\n	11:30 - 12:00 Kundenbeispiel "Digital
 e Kommunikation bei der DHL - wie wir unsere Mitarbeiter erreichen" (Deuts
 che Post DHL )\n	12:00 -  13:00 Mittag\n	13:00 - 13:30  Warum wir Arbeit
  neu erfinden müssen? (Dr. Hübschen\, Microsoft)\n	13:30 - 14:00  Dynam
 ische Teams - Können digitale Assistenten unsere Arbeit erleichtern?(Thom
 as Müller\, B-S-S)\n	14:00 - 14:30 Kundenbeispiel "Auf dem Weg zur intell
 igenten Arbeitsplattform - Einblick in die Entwicklung eines Personal Info
 rmation Assistent bei Bayer" (Martin Kamper\, Bayer)\n	14:30 - 15:00 Kaffe
 epause\n	15:00 - 15:30 "Digitale Gesellschaft / Digitaler Wandel &amp\; Wi
 rtschaftsstandort Thüringen"(Wolfgang Tiefensee\, Thüringer Wirtschaftsm
 inister)\n	15:30 - 16:00 Bürorundgang\n	16:00 - 16:30 Podiumsdiskussion N
 ew Way of Work\n	16:30 Abschluss Business Part\n	Ab 18:00 Uhr feiern wir g
 emeinsam mit unseren Kunden\, Mitarbeitern und Partnern. Dazu laden wir Si
 e ganz herzlich ein.\n\nAnmeldung\nAnmeldung über EventBrite\n\n&nbsp\;\n
 \n&nbsp\;\n\n
CATEGORIES:Partnerevent
LOCATION:B-S-S\, Johannisplatz 16 \, Eisenach\, Deutschland
GEO:50.97362450000001;10.322986899999933
X-APPLE-STRUCTURED-LOCATION;VALUE=URI;X-ADDRESS=Johannisplatz 16 \, Eisenac
 h\, Deutschland;X-APPLE-RADIUS=100;X-TITLE=B-S-S:geo:50.97362450000001,10.
 322986899999933
END:VEVENT
BEGIN:VTIMEZONE
TZID:Europe/Berlin
X-LIC-LOCATION:Europe/Berlin
BEGIN:DAYLIGHT
DTSTART:20150329T030000
TZOFFSETFROM:+0100
TZOFFSETTO:+0200
TZNAME:CEST
END:DAYLIGHT
END:VTIMEZONE
END:VCALENDAR