BEGIN:VCALENDAR
VERSION:2.0
PRODID:-//wp-events-plugin.com//7.2.3.1//EN
TZID:Europe/Berlin
X-WR-TIMEZONE:Europe/Berlin
BEGIN:VEVENT
UID:6-53@sharepointsocial.de
DTSTART;TZID=Europe/Berlin:20151015T090000
DTEND;TZID=Europe/Berlin:20151015T160000
DTSTAMP:20150909T101516Z
URL:https://sharepointsocial.de/events/digitale-transformation-mit-microso
 ft-office-365-und-sharepoint/
SUMMARY:Digitale Transformation mit Microsoft Office 365 und SharePoint
DESCRIPTION:Ein Event von netmedia und Microsoft\n\nNach zwei erfolgreichen
  Roadshow Events in Berlin und München\, möchten wir die Serie in Hambur
 g am 15. Oktober 2015 fortsetzen. Unter dem Motto "Digitale Transformation
  mit Microsoft Office 365 und SharePoint" laden Sie Microsoft und netmedia
  ein\, sich zum Thema Engagement für Ihr Social Collaboration Projekt zu 
 informieren und mit anderen Teilnehmenden und Experten auszutauschen.\nFü
 r wen ist diese Veranstaltung interessant?\nEntscheidern aus Fachabteilung
 en wie\n\n[su_list icon="icon: user"]\n\n	interne und externe Kommunikatio
 n\n	HR\n	IT\n\n[/su_list]\n\nProjektleiter Intranet und Extranet und all j
 ene\, die sich informieren wollen.\nWorum es geht\nIn den Impulsvorträgen
  von Microsoft und netmedia steigen Sie mit Impulsvorträgen gleich ins Th
 ema Mitarbeiterakzeptanz ein und erhalten auch in den darauffolgenden Vort
 rägen wertvolle Eindrücke\, wie Mensch\, Business und Technik strategisc
 h in Einklang gebracht werden können. Ein Workshop wird Ihnen nach dem Mi
 ttagessen Platz für persönliche Fragen einräumen\, deren Antworten mit 
 den Moderatoren und den anderen Teilnehmerinnen und Teilnehmern aktiv erar
 beitet werden. Zwischen den einzelnen Tracks wird es auch immer wieder Gel
 egenheiten zum Netzwerken für Sie geben. Selbstverständlich ist während
  des gesamten Tages für Ihr leibliches Wohl gesorgt.\nWarum ist das Thema
  Mitarbeiterakzeptanz wichtig?\nWem es gelingt\, die Mitarbeiter von Socia
 l Collaboration zu überzeugen und diese aktiv virtuell zusammenarbeiten\,
  hat einen entscheidenden Wettbewerbsvorteil. Je intensiver der digitale D
 ialog und Austausch in Projekten ist\, umso effektiver kann gearbeitet wer
 den. Ideenmanagement\, Expertenfinden\, Onboarding\, schnellerer ROI nach 
 der Anschaffung von Social Software - das alles sind häufig elementare Er
 folgsfaktoren für Ihr Business\, die ohne Mitarbeiterakzeptanz nie den st
 rategischen Unternehmenszielen gerecht werden. Nur wer sich intensiv mit d
 em Thema beschäftigt\, wird auf lange Sicht Erfolg bei der unternehmenswe
 iten virtuellen Zusammenarbeit haben.\nAgenda\n[su_list icon="icon: clock-
 o"]\n\n	9:30 Uhr Come together\n	10:00 Uhr Willkommen\n	10:10 Uhr Impulsvo
 rtrag netmedia: Warum nur ein "One Workplace"-Ansatz für breite Akzeptanz
  sorgt\n	10:40 Uhr Impulsvortrag Microsoft: Warum und wann entscheide ich 
 mich für Yammer\, Lync\, Outlook &amp\; Co.?\n	11:00 Uhr Akzeptanz als wi
 chtigster Erfolgsfaktor für sozialvernetzte Zusammenarbeit und Praxisbeis
 piele für Einführungsstrategien\n	11:30 Uhr Diskussionspanel\n	12:00 Uhr
  Mittagessen\n	13:00 - 14:30 Uhr Interaktiver Workshop: Projektvorgehen &a
 mp\; -herausforderungen bei der Social Collaboration\n	14:30 Uhr Kaffeepau
 se\n	15:00 Uhr Die 4 Projektphasen zum erfolgreichen Social Intranet/Kolla
 borationsprojekt auf SharePoint und Office 365\n	16:00 Uhr Abschluss\n\n[/
 su_list]\nIhr Nutzen\nErreichen Sie einen schnelleren ROI nach der Anschaf
 fung Ihrer Social Software durch mehr strategisches Wissen bei der Einfüh
 rung. Lernen Sie das praxisbewährte Adoption Framework von netmedia kenne
 n\, mit welchem Sie nachweislich Projektkosten einsparen können. Nutzen S
 ie die Gelegenheit\, auf Ihre persönlichen Fragen Antworten von den Exper
 ten zu bekommen.\nWichtiger Hinweis\nBitte haben Sie Verständnis dafür\,
  dass wir uns vorbehalten\, Dienstleister und Softwareanbieter aus der Ver
 anstaltung auszuschließen. Sollten Sie von uns als Dienstleister oder Sof
 twareanbieter fälschlicherweise eine Einladung erhalten haben\, entschuld
 igen wir uns aufrichtig dafür.\nAnmeldung\nKostenlose Anmeldung (bis 1.10
 .) über die Website\, danach € 199\,-
CATEGORIES:Partnerevent
LOCATION:Microsoft Niederlassung Hamburg\, Gasstraße 6a\, Hamburg\, 22761\
 , Deutschland
GEO:53.56147;9.915070000000014
X-APPLE-STRUCTURED-LOCATION;VALUE=URI;X-ADDRESS=Gasstraße 6a\, Hamburg\, 2
 2761\, Deutschland;X-APPLE-RADIUS=100;X-TITLE=Microsoft Niederlassung Hamb
 urg:geo:53.56147,9.915070000000014
END:VEVENT
BEGIN:VTIMEZONE
TZID:Europe/Berlin
X-LIC-LOCATION:Europe/Berlin
BEGIN:DAYLIGHT
DTSTART:20150329T030000
TZOFFSETFROM:+0100
TZOFFSETTO:+0200
TZNAME:CEST
END:DAYLIGHT
END:VTIMEZONE
END:VCALENDAR