BEGIN:VCALENDAR
VERSION:2.0
PRODID:-//wp-events-plugin.com//7.2.3.1//EN
TZID:Europe/Berlin
X-WR-TIMEZONE:Europe/Berlin
BEGIN:VEVENT
UID:6-81@sharepointsocial.de
DTSTART;TZID=Europe/Berlin:20160223T100000
DTEND;TZID=Europe/Berlin:20160223T104500
DTSTAMP:20160126T180751Z
URL:https://sharepointsocial.de/events/digitale-personalakte-mit-sharepoin
 t/
SUMMARY:Digitale Personalakte mit SharePoint
DESCRIPTION:Ein Alegri Webcast\n\nDie Alegri Personalakte unterstützt die 
 bekannten Funktionen eines HR Managements\, alle Dokumente werden revision
 ssicher aufbewahrt und ggf. auch einer Archivierung zugeführt\, je nach b
 etrieblicher Anforderung. Durch die SharePoint-Technologie wird eine übe
 rgreifende Zusammenarbeit mit Fachabteilung und Mitarbeiter möglich. Die 
 Lösung zeichnet sich durch besonders gute Strukturierung\, Bedienfreundli
 chkeit und Mehrsprachigkeit aus.\n\nMelden Sie sich zeitnah unter dieser E
 -Mail-Adresse an unter Angabe von Kontaktdaten\, Thema und Termin.\n\n&nbs
 p\;
CATEGORIES:Webcast
END:VEVENT
BEGIN:VTIMEZONE
TZID:Europe/Berlin
X-LIC-LOCATION:Europe/Berlin
BEGIN:STANDARD
DTSTART:20151025T020000
TZOFFSETFROM:+0200
TZOFFSETTO:+0100
TZNAME:CET
END:STANDARD
END:VTIMEZONE
END:VCALENDAR