BEGIN:VCALENDAR
VERSION:2.0
PRODID:-//wp-events-plugin.com//7.2.3.1//EN
TZID:Europe/Berlin
X-WR-TIMEZONE:Europe/Berlin
BEGIN:VEVENT
UID:6-56@sharepointsocial.de
DTSTART;TZID=Europe/Berlin:20151124T090000
DTEND;TZID=Europe/Berlin:20151124T180000
DTSTAMP:20150929T162908Z
URL:https://sharepointsocial.de/events/digital-workplace-day-2015/
SUMMARY:Digital WorkPlace Day 2015
DESCRIPTION:Der Digital WorkPlace Day 2015 ist ein Event der Communardo So
 ftware GmbH.\n\nDie Digitalisierung der Geschäftswelt hält mehr und mehr
  Einzug und wird zum strategischen Schlüsselthema für den Erfolg von Unt
 ernehmen. Neben dem wichtigen Faktor “Social Collaboration” umfasst de
 r gesamte Umwandlungsprozess der digitalen Transformation noch mehr: Er 
 verändert nicht nur die interne Zusammenarbeit und Kommunikation entschei
 dend\, sondern schließt zunehmend Partner\, Netzwerke und Geschäftsmodel
 le ein. Die Diskussion und Weiterentwicklung bestehender Ideen sowie die
  Ausarbeitung der nächsten Entwicklungsschritte stehen im Mittelpunkt die
 ser Konferenz.\n\nDie eintägige Zusammenkunft kreativer Köpfe gibt den
  notwendigen Raum\, um zum Thema Digitalisierung und Digital Workplace Imp
 ulse zu setzen und Inspiration zu wecken. In ansprechender Atmosphäre 
 können unterschiedliche Thesen diskutiert und Antworten auf bisher ung
 elöste Fragen gefunden werden. Ziel ist es\, Auswirkungen und Entwicklung
 spfade der Veränderung aus unterschiedlichen Denkrichtungen zu reflektier
 en und innovative Ansätze für die Zukunft zu entwickeln.\nDie Sprecher\n
 [su_list icon="icon: user"]\n\n	Prof. Gunter Dueck Visionär\, Querdenker\
 , Buchautor\n- Keynote -\nArtgerechte Haltung im Digitalen Zeitalter\n	Sir
 ka Laudon Leiterin Personalentwicklung Axel Springer SE\nWie sich Führung
 skompetenzen vor dem Hintergrund von Enterprise 2.0 und digitaler Transfor
 mation verändern\n	Harald Schirmer\, Manager Digital Transformation &amp
 \; Change Continental AG\nWorking Out Loud… Entmystifizierung: Den Digit
 alen Arbeitsplatz live erleben\n	Martin Fischer\, Leiter Personalmarketin
 g ADAC e.V.\nFreilaufende Wissensarbeiter im Organisationsgarten: Die Int
 erne Kommunikation als Vernetzungs-Moderator\n	Dr. Thorsten Hübschen\, 
 Business Group Lead Microsoft Office Division Microsoft Deutschland GmbH\n
 Produktivität 4.0 – Wissensarbeit im Digitalen Zeitalter\n	Dörte Witte
 nberg\, Management Beratung und Interim Management\nSocial Strategizing 
 – auf dem Weg zur Digitalisierung\n	Prof. Joachim Niemeier\, Executive 
 Consultant centrestage GmbH\, Honorarprofessor / Universität Stuttgart\
 nDigitale Strategien und die Zukunft von Führung\n	Viola Ploski\, Projek
 tmanagerin Know How! AG\nCorporate Learning im Zuge der Digitalen Transfor
 mation\n	Dirk Wippern\, Enterprise 2.0 Berater\, Systemischer Business C
 oach\nMacht Digitalisierung Führung überflüssig? Was Führen in vernetz
 ten Systemen bedeutet\n\n[/su_list]\nAnmeldung\nAnmeldung über die Eventw
 ebsite € 65\,- Early Bird bis 30.9.2015! danach 85€\n+optional 15€
  pauschal für Abendveranstaltung
CATEGORIES:Konferenz
LOCATION:Kalkscheune Berlin\, Johanisstraße 2\, Berlin\, Berlin\, 10117\, 
 Deutschland
GEO:52.5243658;13.389893400000005
X-APPLE-STRUCTURED-LOCATION;VALUE=URI;X-ADDRESS=Johanisstraße 2\, Berlin\,
  Berlin\, 10117\, Deutschland;X-APPLE-RADIUS=100;X-TITLE=Kalkscheune Berli
 n:geo:52.5243658,13.389893400000005
END:VEVENT
BEGIN:VTIMEZONE
TZID:Europe/Berlin
X-LIC-LOCATION:Europe/Berlin
BEGIN:STANDARD
DTSTART:20151025T020000
TZOFFSETFROM:+0200
TZOFFSETTO:+0100
TZNAME:CET
END:STANDARD
END:VTIMEZONE
END:VCALENDAR