BEGIN:VCALENDAR
VERSION:2.0
PRODID:-//wp-events-plugin.com//7.2.3.1//EN
TZID:Europe/Berlin
X-WR-TIMEZONE:Europe/Berlin
BEGIN:VEVENT
UID:6-77@sharepointsocial.de
DTSTART;TZID=Europe/Berlin:20160216T090000
DTEND;TZID=Europe/Berlin:20160216T170000
DTSTAMP:20160126T174827Z
URL:https://sharepointsocial.de/events/dialogforum-next-generation-sharepo
 int/
SUMMARY:Dialogforum Next Generation SharePoint
DESCRIPTION:Ein Managementcircle Event\nMicrosoft SharePoint hat sich als d
 ie Kollaborationsplattform im Unternehmen etabliert. Unternehmen setzen Sh
 arePoint für eine vernetzte Zusammenarbeit und einen reibungslosen Wissen
 saustausch ein. Hierbei wandeln sich klassische Intranets zuaktiven Wissen
 sportalen\, Abteilungen arbeiten länderübergreifend zusammen und wichtig
 es Know-how steht schnell\, zuverlässig und unternehmensweit zur Verfügu
 ng.\n\n\n	Wie kann die Arbeit mit SharePoint noch effizienter gestaltet we
 rden?\n	Welche neuen Apps bieten sich für die Erweiterung meiner Plattfor
 m an?\n	Welche neuen Optionen und Features erwarten die Kunden durch Share
 Point 2016?\n\nAntworten auf diese und viele weitere Fragen erhalten Sie b
 ei unserem Dialogforum. Sie erfahren welche Chancen und Vorteile sich durc
 h Microsoft SharePoint ergeben und wie Sie den optimalen Nutzen für Ihr U
 nternehmen erzielen können.\nDiskutieren Sie am besten gleich mit: Im Rah
 men der Podiumsdiskussion erfahren Sie\, wie Ihre Branchenkollegen mit den
  Herausforderungen bei der Umsetzung umgegangen sind und welche neuen Mög
 lichkeiten sich daraus ergeben haben. Nutzen Sie die Möglichkeit\, sich m
 it Fachexperten aber auch mit Kollegen über die verschiedenen Optionen un
 d Lösungen auszutauschen.\nPartner\n\n\n	Alight Consulting GmbH\n	BPA Sol
 utions \n	ConVista Consulting AG\n	DCCS\n	K2\n	Solutions2Share\n\nAnmeldun
 g\nInfo\, Agenda und Anmeldung
CATEGORIES:Partnerevent
LOCATION:Hilton Düsseldorf\, Georg-Glock-Str. 20\, Düsseldorf\, 40474\, D
 eutschland
GEO:51.2508902;6.769804499999964
X-APPLE-STRUCTURED-LOCATION;VALUE=URI;X-ADDRESS=Georg-Glock-Str. 20\, Düss
 eldorf\, 40474\, Deutschland;X-APPLE-RADIUS=100;X-TITLE=Hilton Düsseldorf
 :geo:51.2508902,6.769804499999964
END:VEVENT
BEGIN:VTIMEZONE
TZID:Europe/Berlin
X-LIC-LOCATION:Europe/Berlin
BEGIN:STANDARD
DTSTART:20151025T020000
TZOFFSETFROM:+0200
TZOFFSETTO:+0100
TZNAME:CET
END:STANDARD
END:VTIMEZONE
END:VCALENDAR