BEGIN:VCALENDAR
VERSION:2.0
PRODID:-//wp-events-plugin.com//7.2.3.1//EN
TZID:Europe/Berlin
X-WR-TIMEZONE:Europe/Berlin
BEGIN:VEVENT
UID:0-2393@sharepointsocial.de
DTSTART;TZID=Europe/Berlin:20240709T183000
DTEND;TZID=Europe/Berlin:20240709T203000
DTSTAMP:20240629T093314Z
URL:https://sharepointsocial.de/events/decisively-digital-21/
SUMMARY:Decisively Digital #21!
DESCRIPTION:Das nächste Event zu Data &amp\; AI steht vor der Tür und wir
  lernen von den Besten der Branche.\n\nDu darfst das Event "Decisively Dig
 ital" auf keinen Fall verpassen!\n\n📅 Datum: 09.07.2024\n🕕 Uhrzeit: 
 um 18:30 Uhr\n📍 Ort: Nio House Frankfurt\, Große Eschenheimer Str. 16\
 , 60313 Frankfurt\n\nWas Dich erwartet:\n\n➡ Dr. Olga Khryapchenkova\, L
 ead Product Experience Manager für In-Vehicle AI bei NIO wird darüber sp
 rechen\, wie bei NIO KI für bessere Experiences im Fahrzeuginnenraum nutz
 t.\n\n➡ Sven Scheuring\, Data- &amp\; Analytics-Experte bei BMW\, sprich
 t über das Big Picture hinter Digitalisierung und was sie mit uns Mensche
 n macht.\n\n➡ Georgia Voudoulaki\, Syndikusrechtsanwältin bei BOSCH tau
 cht mit uns in die rechtliche Seite von KI und Daten und was es dabei zu b
 eachten gilt.\n\n➡ In der 𝐏𝐚𝐧𝐞𝐥-𝐃𝐢𝐬𝐤𝐮𝐬
 𝐬𝐢𝐨𝐧 werden alle die Gelegenheit haben\, ihre Fragen zu den n
 euesten Entwicklungen in der Künstlichen Intelligenz zu stellen\n\n➡ An
 schließend wird NIO es während des Networkings ermöglichen\, dass wir d
 ie Fahrzeuge und wie AI dort zum Einsatz kommt\, Live und im Detail kennen
 lernen\n\nNutze die Gelegenheit\, Dich mit führenden Experten auszutausch
 en\, wertvolle Kontakte zu knüpfen und neue Impulse für Deine Arbeit zu 
 gewinnen.\n\nSei dabei und melde Dich jetzt an! 🖥️\nhttps://www.meetu
 p.com/frankfurt-analytics/events/301813792
CATEGORIES:Meetup
LOCATION:Nio House Frankfurt\, Große Eschenheimer Str. 16\, Frankfurt\, De
 utschland
X-APPLE-STRUCTURED-LOCATION;VALUE=URI;X-ADDRESS=Große Eschenheimer Str. 16
 \, Frankfurt\, Deutschland;X-APPLE-RADIUS=100;X-TITLE=Nio House Frankfurt:
 geo:0,0
END:VEVENT
BEGIN:VTIMEZONE
TZID:Europe/Berlin
X-LIC-LOCATION:Europe/Berlin
BEGIN:DAYLIGHT
DTSTART:20240331T030000
TZOFFSETFROM:+0100
TZOFFSETTO:+0200
TZNAME:CEST
END:DAYLIGHT
END:VTIMEZONE
END:VCALENDAR