BEGIN:VCALENDAR
VERSION:2.0
PRODID:-//wp-events-plugin.com//7.2.3.1//EN
TZID:Europe/Berlin
X-WR-TIMEZONE:Europe/Berlin
BEGIN:VEVENT
UID:0-1721@sharepointsocial.de
DTSTART;TZID=Europe/Berlin:20210218T190000
DTEND;TZID=Europe/Berlin:20210218T220000
DTSTAMP:20210205T184020Z
URL:https://sharepointsocial.de/events/data-governance-with-azure-purview-
 azure-synapse-best-practices/
SUMMARY:Data Governance with Azure Purview & Azure Synapse best Practices!
DESCRIPTION:Hi data aficionados\,\n\nawaiting you for another great evening
  with tech talks\, discussions and drinks! Still in lockdown this will be 
 a virtual event again.\n\nWe got two sessions for you:\n\nOur 1st speaker 
 will be ****** Hans-Peter Bareiner ******\n\nHans-Peter is a Cloud Solutio
 n Architect for Data &amp\; AI at Microsoft - taking care for large scale 
 global customers (and one of my closest peers at MS :-) )\n\n##### Data Go
 vernanance with Azure Purview #####\nHans-Peter will give an introduction 
 to the new Purview service on Azure. Purview integrates deeply into Azure 
 data services - but also support hybrid scenarios. For: data discovery and
  cataloging\, lineaging and information protection. The Purview service wi
 ll be key for managing a data estate on Azure. Join the talk and tell us a
 bout your data governance needs and experiences!\n\nOur 2nd speaker will b
 e ****** Andre Kamann ******\n\nAndré is a So-Called Modern Data Engineer
  and architecht for mostly in Azure. He has done a lot of DBA work on 1000
 ’s of servers where he discovered his love for Powershell\, architecting
  SQL Server solutions\, building and tuning ETL processes (with BIML)\, an
 d even implementing PDW. Having to wrangle a lot of data he's using Python
 \, SparkSQL in Azure Databricks\, Data Factory and Power BI as well these 
 days. André is a Data Platform MPV\, Dutch PASS Chapter\, Leader organise
 r of SQL Saturday Holland and Data &amp\; BI track volunteer for Techorama
  Holland\n\n##### Practical Data Distribution in Dedicated SQL Pools #####
 \nHaving just finished a project where 200+ TB of data was moved to a Syna
 pse Dedicated SQL pool\, formerly SQL DW\, I learned that there is no one 
 size fits all method regarding how you partition and distribute your data 
 and what your index options are. (Hint\, column store is not always a good
  choice)\nThis session is demo heavy based on notes from the field\, mixed
  with some diagrams to explain the theory behind what we are seeing.\n\nHa
 ppy to have both of you on the 18.02.!\n\n--------------------------------
 -------------------------------------------------------------------\nOur u
 sual disclaimer: if we have English speaking attendees in our call - the s
 essions will be delivered in English language. Don't hesitate to join. And
  please invite your colleagues\, business partners\, who ever might be int
 erested\, to this event!\n------------------------------------------------
 ---------------------------------------------------\n\nThe Teams meeting l
 ink will be provided in time before the 18th.\n\nStay tuned\,\n\nGeorg(e) 
 on behalf of the Berlin MS Data &amp\; AI team: Ben\, Markus &amp\; me!
CATEGORIES:Meetup
LOCATION:https://www.meetup.com/de-DE/Microsoft-Data-AI-Berlin/events/27617
 4080/
END:VEVENT
BEGIN:VTIMEZONE
TZID:Europe/Berlin
X-LIC-LOCATION:Europe/Berlin
BEGIN:STANDARD
DTSTART:20201025T020000
TZOFFSETFROM:+0200
TZOFFSETTO:+0100
TZNAME:CET
END:STANDARD
END:VTIMEZONE
END:VCALENDAR