BEGIN:VCALENDAR
VERSION:2.0
PRODID:-//wp-events-plugin.com//7.2.3.1//EN
TZID:Europe/Berlin
X-WR-TIMEZONE:Europe/Berlin
BEGIN:VEVENT
UID:0-2362@sharepointsocial.de
DTSTART;TZID=Europe/Berlin:20240503T100000
DTEND;TZID=Europe/Berlin:20240503T110000
DTSTAMP:20240502T091443Z
URL:https://sharepointsocial.de/events/das-cloudcouchrocks-poweratelier-14
 -2024/
SUMMARY:Das #CloudCouchRocks #PowerAtelier 14/2024
DESCRIPTION:Wir\, also Tomislav Karafilov und Stefan Riedel\, begrüßen Eu
 ch jeden Freitag um 10:00 für eine Stunde im #PowerAtelier.\nIn diesem On
 line-Event habt ihr die Möglichkeit uns zu Fragen rund um die Power Platf
 orm auszuquetschen.\nEventuell findet ihr einen Fehler in Eurer App nicht\
 , oder ihr habt keine Idee\, wie ihr ein akutes Problem lösen könnt.\nHa
 bt ihr was tolles gebaut\, und wollt es uns zeigen oder möchtet einfach u
 nsere Meinung dazu hören.\nKommt rein! Wir sind da und freuen uns auf euc
 h!\nWir sind gespannt!\nClick here to join the meeting
CATEGORIES:Meetup
LOCATION:https://www.meetup.com/de-DE/power-apps-power-automate-usergroup-h
 annover/events/300776839/
END:VEVENT
BEGIN:VTIMEZONE
TZID:Europe/Berlin
X-LIC-LOCATION:Europe/Berlin
BEGIN:DAYLIGHT
DTSTART:20240331T030000
TZOFFSETFROM:+0100
TZOFFSETTO:+0200
TZNAME:CEST
END:DAYLIGHT
END:VTIMEZONE
END:VCALENDAR