BEGIN:VCALENDAR
VERSION:2.0
PRODID:-//wp-events-plugin.com//7.2.3.1//EN
TZID:Europe/Berlin
X-WR-TIMEZONE:Europe/Berlin
BEGIN:VEVENT
UID:0-2401@sharepointsocial.de
DTSTART;TZID=Europe/Berlin:20240828T140000
DTEND;TZID=Europe/Berlin:20240828T150000
DTSTAMP:20240722T100117Z
URL:https://sharepointsocial.de/events/copilot-profi-in-4-wochen-die-show-
 2/
SUMMARY:Copilot Profi in 4 Wochen - die Show #2
DESCRIPTION:\n\n\nMachen Sie diesen Sommer zum Copilot-Sommer! Der smarte K
 I-Assistent revolutioniert die Art und Weise\, wie wir arbeiten. In unsere
 m Live-Event “Copilot-Profi in 4 Wochen – die Show” und dem Copilot-
 E-Book erfahren Sie\, wie Sie den KI-Assistenten optimal nutzen. \n\nSchal
 ten Sie am 28. August 2024 zur zweiten Ausgabe ein und bringen Sie Ihre F
 ähigkeiten auf das nächste Level. Wir starten mit den „Basic Tools“ 
 und zeigen Ihnen\, wie Sie Copilot in Teams effektiv verwenden. Danach ste
 llen wir Ihnen einen Vier-Wochen-Plan und das Wichtigste zu Adaptionsstrat
 egien vor. Im Anschluss präsentieren alle Expert*innen ihren persönliche
 n Favoriten unter den Prompts und erläutern\, was ihn besonders wirkungsv
 oll macht.\nIn einem interaktiven Quiz können Sie gegen die Expert*innen 
 antreten und Ihr Wissen testen. Die Show endet mit einer Fragerunde\, in d
 er Sie sich individuelle Tipps von den Expert*innen abholen können.\n\nAg
 enda: \n\n 	Copilot in Teams\n 	Vier-Wochen-Plan und Adaptionsstrategien\
 n 	Lieblingsprompts der Expert*innen \n 	Interaktives Quiz: Ihr Wissen ge
 gen die Expert*innen \n 	Live Q&amp\;A: Ihre Fragen\, unsere Antworten \
 n\n\nVerpassen Sie nicht diese einmalige Gelegenheit\, ein Copilot-Profess
 ional zu werden. Die ruhigere Zeit im Sommer lässt sich wunderbar nutzen\
 , um Skills aufzufrischen und zu erweitern. Melden Sie sich jetzt an\, um 
 von unseren Expert*innen zu lernen und Teil unserer Community zu werden. \
 n\nWir freuen uns auf Sie!  \n\n\n\n\n\n\nAgenda\n\n\n\n02:00 PM - 02:45
  PM\n\n\n\nCopilot-Profi in 4 Wochen - die Show #2\n\n\n\n02:45 PM - 03:00
  PM\n\n\n\nQ &amp\; A\n\n\n\n\nHinweis: Microsoft Teams bietet ein umfasse
 ndes\, interaktives Erlebnis\, das am besten mit der Teams-App funktionier
 t. Wir empfehlen Ihnen\, die App herunterzuladen\, sofern noch nicht gesch
 ehen\, da nicht alle Browser unterstützt werden. Wenn Sie an dieser Veran
 staltung teilnehmen\, sind Ihr Name\, Ihre E-Mail und/oder Ihre Telefonnum
 mer möglicherweise für andere Teilnehmer*innen in der Teilnehmerliste si
 chtbar. Durch die Teilnahme an dieser Veranstaltung erklären Sie hierzu I
 hr Einverständnis.\n\n\n\nSprecher*innen\n\n\n\n\n\n\n\n\n\nAlexander Sin
 ger\nBusiness Lead MW Secured Productivity | Microsoft Deutschland GmbH\n\
 n\n\n\n\nAlexander Eggers\nMicrosoft MVP\, Adoption Specialist | NextSkill
 s GmbH\n\n\n\n\n\n\n\n
CATEGORIES:Meetup,Webcast
LOCATION:https://msevents.microsoft.com/event?id=192131928981
END:VEVENT
BEGIN:VTIMEZONE
TZID:Europe/Berlin
X-LIC-LOCATION:Europe/Berlin
BEGIN:DAYLIGHT
DTSTART:20240331T030000
TZOFFSETFROM:+0100
TZOFFSETTO:+0200
TZNAME:CEST
END:DAYLIGHT
END:VTIMEZONE
END:VCALENDAR