BEGIN:VCALENDAR
VERSION:2.0
PRODID:-//wp-events-plugin.com//7.2.3.1//EN
TZID:Europe/Berlin
X-WR-TIMEZONE:Europe/Berlin
BEGIN:VEVENT
UID:0-2400@sharepointsocial.de
DTSTART;TZID=Europe/Berlin:20240731T140000
DTEND;TZID=Europe/Berlin:20240731T150000
DTSTAMP:20240722T095907Z
URL:https://sharepointsocial.de/events/copilot-profi-in-4-wochen-die-show-
 1/
SUMMARY:Copilot Profi in 4 Wochen - die Show #1
DESCRIPTION:\n\n\n\nSommer\, Sonne\, Sommerloch? Keinesfalls! Legen Sie pro
 duktive Sommerpausen ein und lernen Sie unseren KI-Assistenten Copilot bes
 ser kennen. In unserem E-Book und dem Live-Event “Copilot-Profi in 4 Woc
 hen – die Show” erfahren Sie\, wie Sie Copilot optimal nutzen können.
  Egal ob am See oder im Büro\, freuen Sie sich auf spannende Tipps und Tr
 icks von unseren Expert*innen.\n\nEntdecken Sie\, wie Sie Ihre Fähigkeite
 n auf das nächste Level bringen können – mit Spaß\, Spannung und Pote
 nzial für einen entspannten Herbst!\n\nAm 31.07.2024 präsentiert die Tea
 ms- und Copilot-Show zusammen eine besondere Ausgabe: “Copilot-Profi in 
 4 Wochen – die Show“. In dieser Sendung werden unsere Expert*innen im 
 Studio sein\, um ihr Wissen über effektives Prompten zu teilen.\n\nIm ers
 ten Slot geht es um die Grundlagen der Erstellung von präzisen und effekt
 iven Prompts. Im zweiten Slot zeigen wir anhand von Beispielen aus dem E-B
 ook\, wie sich bessere Prompts auf die Ergebnisse auswirken. Im dritten Sl
 ot präsentieren alle Expert*innen ihren persönlichen Prompt-Favoriten un
 d erläutern\, was ihn besonders wirkungsvoll macht.\n\nDanach folgt ein i
 nteraktives Quiz\, bei dem Sie gegen die Expert*innen antreten können\, u
 m Ihr Wissen zu testen. Die Show endet mit einer Fragerunde\, in der Sie i
 ndividuelle Tipps von den Expert*innen einholen können.\n\nIhre Gastgeber
 :\n\n 	Alexander Singer (Business Lead MW Secured Productivity | Microsoft
  Deutschland GmbH)\n 	Alexander Eggers (Microsoft MVP\, Adoption Specialis
 t | NextSkills GmbH)\n\nAgenda:\n\n 	Effektives Prompten\n 	Ergebnisoptimi
 erung durch bessere Prompts\n 	Lieblingsprompts der Expert*innen\n 	Intera
 ktives Quiz: Ihr Wissen gegen die Expert*innen\n 	Live Q&amp\;A: Ihre Frag
 en\, unsere Antworten\n\nVerpassen Sie nicht diese einmalige Gelegenheit\,
  ein Copilot-Professional zu werden. Die ruhigere Zeit im Sommer lässt si
 ch wunderbar nutzen\, um Skills aufzufrischen und zu erweitern. Melden Sie
  sich jetzt an\, um von unseren Expert*innen zu lernen und Teil unserer Co
 mmunity zu werden.\n\nWir freuen uns auf Sie!\n\n\n\n\nAgenda\n\n\n\n02:00
  PM - 02:45 PM\n\n\n\nCopilot-Profi in 4 Wochen - die Show #1\n\n\n\n02:45
  PM - 03:00 PM\n\n\n\nQ &amp\; A\n\n\n\n\nHinweis: Microsoft Teams bietet 
 ein umfassendes\, interaktives Erlebnis\, das am besten mit der Teams-App 
 funktioniert. Wir empfehlen Ihnen\, die App herunterzuladen\, sofern noch 
 nicht geschehen\, da nicht alle Browser unterstützt werden. Wenn Sie an d
 ieser Veranstaltung teilnehmen\, sind Ihr Name\, Ihre E-Mail und/oder Ihre
  Telefonnummer möglicherweise für andere Teilnehmer*innen in der Teilneh
 merliste sichtbar. Durch die Teilnahme an dieser Veranstaltung erklären S
 ie hierzu Ihr Einverständnis.\n\n\n\nSprecher*innen\n\n\n\n\n\n\n\n\n\nAl
 exander Singer\nBusiness Lead MW Secured Productivity | Microsoft Deutschl
 and GmbH\n\n\n\n\n\nAlexander Eggers\nMicrosoft MVP\, Adoption Specialist 
 | NextSkills GmbH\n\n\n\n\n\nAndreas Schlüter\nMicrosoft MVP\, Workflow A
 utomation Expert | GEDL UG\n\n\n\n\n\nRagnar Heil\nMicrosoft MVP\, Busines
 s Development Manager Microsoft | HanseVision\n\n\n\n\n\nNicole Wiske\nMic
 rosoft MVP\, System Engineer | Netplans GmbH\n\n\n\n\n\n\n\n
CATEGORIES:Meetup,Webcast
LOCATION:https://msevents.microsoft.com/event?id=51087504425
END:VEVENT
BEGIN:VTIMEZONE
TZID:Europe/Berlin
X-LIC-LOCATION:Europe/Berlin
BEGIN:DAYLIGHT
DTSTART:20240331T030000
TZOFFSETFROM:+0100
TZOFFSETTO:+0200
TZNAME:CEST
END:DAYLIGHT
END:VTIMEZONE
END:VCALENDAR