BEGIN:VCALENDAR
VERSION:2.0
PRODID:-//wp-events-plugin.com//7.2.3.1//EN
TZID:Europe/Berlin
X-WR-TIMEZONE:Europe/Berlin
BEGIN:VEVENT
UID:6-554@sharepointsocial.de
DTSTART;TZID=Europe/Berlin:20170922T123000
DTEND;TZID=Europe/Berlin:20170922T163000
DTSTAMP:20170913T145610Z
URL:https://sharepointsocial.de/events/community-im-gespraech-digitale-tra
 nsformation-mit-ai-und-iot/
SUMMARY:Community im Gespräch: Digitale Transformation mit AI und IoT
DESCRIPTION:«Community im Gespräch» ist die neue Veranstaltungsserie des
  Departements Informatik\, welche sich hochaktuellen Themen der Digitalisi
 erung widmet. Die erste Veranstaltung fand am 13. Juni 2017 bei der V-ZUG 
 AG statt. Einen Rückblick dazu liefert dieser kurze Film.\n\nDas kommend
 e Community im Gespräch vom 22. September 2017 findet bei Microsoft Schwe
 iz statt und präsentiert sich wie folgt:\nProgramm\n\n 	12:30 Eintreffen
 \n 	13:00 Begrüßung durch Prof. Dr. Sita Mazumder\, Hochschule Luzern
  – Informatik und Yvonne Bettkober\, Director Specialist Team Unit bei
  Microsoft Schweiz\n 	13:10 Impulsreferat «Digitale Transformation»\nSt
 ephan Isenschmid\, CEO Swiss Leadership Forum\n 	13:20 Key Note «Der ifo
 lor Case»\nFilip Schwarz\, CEO ifolor\n 	13:45 Paneldiskussion inkl. Q&a
 mp\;A:\nFilip Schwarz\, CEO ifolor\nDaniel Weder\, ehem. CEO skyguide\nCla
 udio Mirti\, Principal Solution Specialist – Data &amp\; AI\, Microsoft\
 nModeration: Prof. Dr. Sita Mazumder\, Hochschule Luzern – Informatik\n
  	14:30 Interaktiver Lab-Teil in zwei Gruppen\n 	IoT &gt\; Industrie 4.0 
 in der Baubranche - mehr Effizienz dank IoT\n(Dr. Gerald Reif\, IT-Archite
 ct bei ipt)\nAI &gt\; 3 Strategien für Business Innovation mit Sentiment 
 Analysis\n(Dr. Amancio Bouza\, Lead Consultant bei ipt)\n 	16:00 Apéro\n\
 nZielgruppe\nDie Veranstaltung richtet sich an alle interessierten Persone
 n. Im Fokus stehen KMU.\nKosten\nDie Teilnahme kostet CHF 65.– (inkl. Ap
 éro)\nMitglieder des Alumni-Vereins der Hochschule Luzern profitieren von
  10% Rabatt.\n\nZur Anmeldung
CATEGORIES:Partnerevent
LOCATION:Microsoft Schweiz\, Richtistrasse 3\, Wallisellen\, 8304\, Schweiz
GEO:47.4088602;8.59084669999993
X-APPLE-STRUCTURED-LOCATION;VALUE=URI;X-ADDRESS=Richtistrasse 3\, Wallisell
 en\, 8304\, Schweiz;X-APPLE-RADIUS=100;X-TITLE=Microsoft Schweiz:geo:47.40
 88602,8.59084669999993
END:VEVENT
BEGIN:VTIMEZONE
TZID:Europe/Berlin
X-LIC-LOCATION:Europe/Berlin
BEGIN:DAYLIGHT
DTSTART:20170326T030000
TZOFFSETFROM:+0100
TZOFFSETTO:+0200
TZNAME:CEST
END:DAYLIGHT
END:VTIMEZONE
END:VCALENDAR